| Back to Multiple platform build/check report for BioC 3.8 | 
  | 
This page was generated on 2019-04-16 11:56:34 -0400 (Tue, 16 Apr 2019).
| Package 128/1649 | Hostname | OS / Arch | INSTALL | BUILD | CHECK | BUILD BIN | ||||||
| bigmemoryExtras 1.30.0 Peter M. Haverty 
  | malbec1 | Linux (Ubuntu 16.04.6 LTS) / x86_64 | OK | OK | WARNINGS | |||||||
| merida1 | OS X 10.11.6 El Capitan / x86_64 | OK | OK | WARNINGS | [ OK ] | 
| Package: bigmemoryExtras | 
| Version: 1.30.0 | 
| Command: rm -rf bigmemoryExtras.buildbin-libdir && mkdir bigmemoryExtras.buildbin-libdir && /Users/biocbuild/BBS/utils/build-universal.sh bigmemoryExtras_1.30.0.tar.gz /Library/Frameworks/R.framework/Versions/Current/Resources/bin/R bigmemoryExtras.buildbin-libdir | 
| StartedAt: 2019-04-16 03:44:09 -0400 (Tue, 16 Apr 2019) | 
| EndedAt: 2019-04-16 03:44:57 -0400 (Tue, 16 Apr 2019) | 
| EllapsedTime: 48.3 seconds | 
| RetCode: 0 | 
| Status: OK | 
| PackageFile: bigmemoryExtras_1.30.0.tgz | 
| PackageFileSize: 167.4 KiB | 
############################################################################## ############################################################################## ### ### Running command: ### ### rm -rf bigmemoryExtras.buildbin-libdir && mkdir bigmemoryExtras.buildbin-libdir && /Users/biocbuild/BBS/utils/build-universal.sh bigmemoryExtras_1.30.0.tar.gz /Library/Frameworks/R.framework/Versions/Current/Resources/bin/R bigmemoryExtras.buildbin-libdir ### ############################################################################## ############################################################################## >>>>>>> >>>>>>> INSTALLATION WITH 'R CMD INSTALL --preclean --no-multiarch --library=bigmemoryExtras.buildbin-libdir bigmemoryExtras_1.30.0.tar.gz' >>>>>>> * installing *source* package ‘bigmemoryExtras’ ... ** R ** inst ** byte-compile and prepare package for lazy loading Creating a generic function for ‘apply’ from package ‘base’ in package ‘bigmemoryExtras’ Creating a generic function for ‘nlevels’ from package ‘base’ in package ‘bigmemoryExtras’ ** help *** installing help indices ** building package indices ** installing vignettes ** testing if installed package can be loaded * DONE (bigmemoryExtras)