| Back to Multiple platform build/check report for BioC 3.8 | 
  | 
This page was generated on 2019-04-13 11:19:24 -0400 (Sat, 13 Apr 2019).
| Package 72/1649 | Hostname | OS / Arch | INSTALL | BUILD | CHECK | BUILD BIN | ||||||
| arrayQuality 1.60.0 Agnes Paquet 
  | malbec1 | Linux (Ubuntu 16.04.6 LTS) / x86_64 | OK | OK | WARNINGS | |||||||
| tokay1 | Windows Server 2012 R2 Standard / x64 | OK | OK | WARNINGS | [ OK ] | |||||||
| merida1 | OS X 10.11.6 El Capitan / x86_64 | OK | OK | WARNINGS | OK | 
| Package: arrayQuality | 
| Version: 1.60.0 | 
| Command: rm -rf arrayQuality.buildbin-libdir && mkdir arrayQuality.buildbin-libdir && C:\Users\biocbuild\bbs-3.8-bioc\R\bin\R.exe CMD INSTALL --merge-multiarch --build --library=arrayQuality.buildbin-libdir arrayQuality_1.60.0.tar.gz | 
| StartedAt: 2019-04-13 06:54:28 -0400 (Sat, 13 Apr 2019) | 
| EndedAt: 2019-04-13 06:55:01 -0400 (Sat, 13 Apr 2019) | 
| EllapsedTime: 33.8 seconds | 
| RetCode: 0 | 
| Status: OK | 
| PackageFile: arrayQuality_1.60.0.zip | 
| PackageFileSize: 12.04 MiB | 
##############################################################################
##############################################################################
###
### Running command:
###
###   rm -rf arrayQuality.buildbin-libdir && mkdir arrayQuality.buildbin-libdir && C:\Users\biocbuild\bbs-3.8-bioc\R\bin\R.exe CMD INSTALL --merge-multiarch --build --library=arrayQuality.buildbin-libdir arrayQuality_1.60.0.tar.gz
###
##############################################################################
##############################################################################
install for i386
* installing *source* package 'arrayQuality' ...
** R
** data
** inst
** byte-compile and prepare package for lazy loading
** help
*** installing help indices
  converting help for package 'arrayQuality'
    finding HTML links ... done
    MmDEGenes                               html  
    PRv9mers                                html  
    PRvQCHyb                                html  
    agQuality                               html  
    arrayQuality-internal                   html  
    globalQuality                           html  
    gpQuality                               html  
    gprDB                                   html  
    heeboQuality                            html  
    heeboQualityPlots                       html  
    maQualityPlots                          html  
    meeboQuality                            html  
    meeboQualityPlots                       html  
    prdata                                  html  
    qcScore                                 html  
    qualBoxplot                             html  
    qualityScore                            html  
    readAgilent                             html  
    readGPR                                 html  
    readSpikeTypes                          html  
    readSpot                                html  
    readcontrolCode                         html  
    scaleRefTable                           html  
    slideQuality                            html  
    spotQuality                             html  
** building package indices
** installing vignettes
** testing if installed package can be loaded
In R CMD INSTALL
install for x64
* installing *source* package 'arrayQuality' ...
** testing if installed package can be loaded
* MD5 sums
packaged installation of 'arrayQuality' as arrayQuality_1.60.0.zip
* DONE (arrayQuality)
In R CMD INSTALL
In R CMD INSTALL