| Back to Multiple platform build/check report for BioC 3.8 | 
  | 
This page was generated on 2019-04-16 11:47:44 -0400 (Tue, 16 Apr 2019).
| Package 53/1649 | Hostname | OS / Arch | INSTALL | BUILD | CHECK | BUILD BIN | ||||||
| annotate 1.60.1 Bioconductor Package Maintainer 
  | malbec1 | Linux (Ubuntu 16.04.6 LTS) / x86_64 | OK | OK | [ OK ] | |||||||
| merida1 | OS X 10.11.6 El Capitan / x86_64 | OK | OK | OK | OK | 
| Package: annotate | 
| Version: 1.60.1 | 
| Command: /home/biocbuild/bbs-3.8-bioc/R/bin/R CMD check --install=check:annotate.install-out.txt --library=/home/biocbuild/bbs-3.8-bioc/R/library --no-vignettes --timings annotate_1.60.1.tar.gz | 
| StartedAt: 2019-04-15 22:10:51 -0400 (Mon, 15 Apr 2019) | 
| EndedAt: 2019-04-15 22:13:43 -0400 (Mon, 15 Apr 2019) | 
| EllapsedTime: 171.4 seconds | 
| RetCode: 0 | 
| Status: OK | 
| CheckDir: annotate.Rcheck | 
| Warnings: 0 | 
##############################################################################
##############################################################################
###
### Running command:
###
###   /home/biocbuild/bbs-3.8-bioc/R/bin/R CMD check --install=check:annotate.install-out.txt --library=/home/biocbuild/bbs-3.8-bioc/R/library --no-vignettes --timings annotate_1.60.1.tar.gz
###
##############################################################################
##############################################################################
* using log directory ‘/home/biocbuild/bbs-3.8-bioc/meat/annotate.Rcheck’
* using R version 3.5.3 (2019-03-11)
* using platform: x86_64-pc-linux-gnu (64-bit)
* using session charset: UTF-8
* using option ‘--no-vignettes’
* checking for file ‘annotate/DESCRIPTION’ ... OK
* this is package ‘annotate’ version ‘1.60.1’
* checking package namespace information ... OK
* checking package dependencies ... OK
* checking if this is a source package ... OK
* checking if there is a namespace ... OK
* checking for hidden files and directories ... OK
* checking for portable file names ... OK
* checking for sufficient/correct file permissions ... OK
* checking whether package ‘annotate’ can be installed ... OK
* checking installed package size ... OK
* checking package directory ... OK
* checking ‘build’ directory ... OK
* checking DESCRIPTION meta-information ... OK
* checking top-level files ... OK
* checking for left-over files ... OK
* checking index information ... OK
* checking package subdirectories ... OK
* checking R files for non-ASCII characters ... OK
* checking R files for syntax errors ... OK
* checking whether the package can be loaded ... OK
* checking whether the package can be loaded with stated dependencies ... OK
* checking whether the package can be unloaded cleanly ... OK
* checking whether the namespace can be loaded with stated dependencies ... OK
* checking whether the namespace can be unloaded cleanly ... OK
* checking dependencies in R code ... OK
* checking S3 generic/method consistency ... OK
* checking replacement functions ... OK
* checking foreign function calls ... OK
* checking R code for possible problems ... OK
* checking Rd files ... OK
* checking Rd metadata ... OK
* checking Rd cross-references ... OK
* checking for missing documentation entries ... OK
* checking for code/documentation mismatches ... OK
* checking Rd \usage sections ... OK
* checking Rd contents ... OK
* checking for unstated dependencies in examples ... OK
* checking contents of ‘data’ directory ... OK
* checking data for non-ASCII characters ... OK
* checking data for ASCII and uncompressed saves ... OK
* checking files in ‘vignettes’ ... OK
* checking examples ... OK
Examples with CPU or elapsed time > 5s
                 user system elapsed
chrCats        16.784  0.004  16.866
blastSequences  0.600  0.076  34.886
* checking for unstated dependencies in ‘tests’ ... OK
* checking tests ...
  Running ‘annotate_unit_tests.R’
 OK
* checking for unstated dependencies in vignettes ... OK
* checking package vignettes in ‘inst/doc’ ... OK
* checking running R code from vignettes ... SKIPPED
* checking re-building of vignette outputs ... SKIPPED
* checking PDF version of manual ... OK
* DONE
Status: OK
annotate.Rcheck/00install.out
############################################################################## ############################################################################## ### ### Running command: ### ### /home/biocbuild/bbs-3.8-bioc/R/bin/R CMD INSTALL annotate ### ############################################################################## ############################################################################## * installing to library ‘/home/biocbuild/bbs-3.8-bioc/R/library’ * installing *source* package ‘annotate’ ... ** R ** data ** inst ** byte-compile and prepare package for lazy loading ** help *** installing help indices ** building package indices ** installing vignettes ** testing if installed package can be loaded * DONE (annotate)
annotate.Rcheck/tests/annotate_unit_tests.Rout
R version 3.5.3 (2019-03-11) -- "Great Truth"
Copyright (C) 2019 The R Foundation for Statistical Computing
Platform: x86_64-pc-linux-gnu (64-bit)
R is free software and comes with ABSOLUTELY NO WARRANTY.
You are welcome to redistribute it under certain conditions.
Type 'license()' or 'licence()' for distribution details.
R is a collaborative project with many contributors.
Type 'contributors()' for more information and
'citation()' on how to cite R or R packages in publications.
Type 'demo()' for some demos, 'help()' for on-line help, or
'help.start()' for an HTML browser interface to help.
Type 'q()' to quit R.
> BiocGenerics:::testPackage("annotate")
Attaching package: 'BiocGenerics'
The following objects are masked from 'package:parallel':
    clusterApply, clusterApplyLB, clusterCall, clusterEvalQ,
    clusterExport, clusterMap, parApply, parCapply, parLapply,
    parLapplyLB, parRapply, parSapply, parSapplyLB
The following objects are masked from 'package:stats':
    IQR, mad, sd, var, xtabs
The following objects are masked from 'package:base':
    Filter, Find, Map, Position, Reduce, anyDuplicated, append,
    as.data.frame, basename, cbind, colMeans, colSums, colnames,
    dirname, do.call, duplicated, eval, evalq, get, grep, grepl,
    intersect, is.unsorted, lapply, lengths, mapply, match, mget,
    order, paste, pmax, pmax.int, pmin, pmin.int, rank, rbind,
    rowMeans, rowSums, rownames, sapply, setdiff, sort, table, tapply,
    union, unique, unsplit, which, which.max, which.min
Welcome to Bioconductor
    Vignettes contain introductory material; view with
    'browseVignettes()'. To cite Bioconductor, see
    'citation("Biobase")', and for packages 'citation("pkgname")'.
Attaching package: 'S4Vectors'
The following object is masked from 'package:base':
    expand.grid
Loading required package: org.Hs.eg.db
'select()' returned 1:many mapping between keys and columns
RUNIT TEST PROTOCOL -- Mon Apr 15 22:13:38 2019 
*********************************************** 
Number of test functions: 1 
Number of errors: 0 
Number of failures: 0 
 
1 Test Suite : 
annotate RUnit Tests - 1 test function, 0 errors, 0 failures
Number of test functions: 1 
Number of errors: 0 
Number of failures: 0 
> 
> proc.time()
   user  system elapsed 
  6.300   0.180   6.495 
annotate.Rcheck/annotate-Ex.timings
| name | user | system | elapsed | |
| ACCNUMStats | 1.864 | 0.028 | 1.899 | |
| GO2heatmap | 0.132 | 0.004 | 0.155 | |
| GOmnplot | 0.040 | 0.004 | 0.047 | |
| HTMLPage-class | 0 | 0 | 0 | |
| LL2homology | 0 | 0 | 0 | |
| PMIDAmat | 0.080 | 0.004 | 0.197 | |
| PWAmat | 2.480 | 0.012 | 2.502 | |
| UniGeneQuery | 0.000 | 0.000 | 0.001 | |
| accessionToUID | 0.760 | 0.044 | 2.983 | |
| annPkgName | 0 | 0 | 0 | |
| aqListGOIDs | 0.436 | 0.024 | 0.460 | |
| blastSequences | 0.600 | 0.076 | 34.886 | |
| buildChromLocation | 0.744 | 0.012 | 0.809 | |
| buildPubMedAbst | 0.144 | 0.000 | 0.663 | |
| chrCats | 16.784 | 0.004 | 16.866 | |
| chromLocation-class | 0.728 | 0.000 | 0.734 | |
| compatibleVersions | 0.060 | 0.000 | 0.064 | |
| dropECode | 0.064 | 0.000 | 0.065 | |
| entrezGeneByID | 0.000 | 0.000 | 0.001 | |
| entrezGeneQuery | 0.000 | 0.000 | 0.001 | |
| filterGOByOntology | 0.140 | 0.000 | 0.138 | |
| findNeighbors | 0.028 | 0.000 | 0.077 | |
| genbank | 0.308 | 0.004 | 1.237 | |
| getAnnMap | 0.052 | 0.000 | 0.168 | |
| getEvidence | 0.084 | 0.000 | 0.084 | |
| getGOTerm | 0.356 | 0.008 | 0.427 | |
| getOntology | 0.068 | 0.000 | 0.064 | |
| getPMInfo | 0.520 | 0.012 | 1.060 | |
| getSYMBOL | 0.124 | 0.008 | 0.191 | |
| getSeq4Acc | 0.116 | 0.000 | 0.482 | |
| hasGOannote | 0.036 | 0.000 | 0.033 | |
| hgByChroms | 0.020 | 0.000 | 0.022 | |
| hgCLengths | 0.000 | 0.000 | 0.002 | |
| hgu95Achroloc | 0.080 | 0.004 | 0.085 | |
| hgu95Achrom | 0.068 | 0.000 | 0.070 | |
| hgu95All | 0.064 | 0.000 | 0.062 | |
| hgu95Asym | 0.080 | 0.000 | 0.083 | |
| homoData-class | 0.000 | 0.000 | 0.002 | |
| htmlpage | 0.016 | 0.000 | 0.020 | |
| isValidkey | 0 | 0 | 0 | |
| makeAnchor | 0 | 0 | 0 | |
| organism | 0.740 | 0.000 | 0.741 | |
| p2LL | 0.000 | 0.000 | 0.001 | |
| pm.abstGrep | 1.016 | 0.000 | 1.999 | |
| pm.getabst | 1.344 | 0.016 | 2.450 | |
| pm.titles | 1.128 | 0.000 | 2.150 | |
| pmAbst2HTML | 0.160 | 0.004 | 0.676 | |
| pmid2MIAME | 0 | 0 | 0 | |
| pmidQuery | 0.004 | 0.000 | 0.001 | |
| pubMedAbst-class | 0.148 | 0.004 | 0.658 | |
| pubmed | 0.116 | 0.008 | 0.637 | |
| readGEOAnn | 0.000 | 0.000 | 0.001 | |
| serializeEnv | 0.000 | 0.004 | 0.002 | |
| setRepository | 0.004 | 0.000 | 0.002 | |
| updateSymbolsToValidKeys | 0 | 0 | 0 | |
| usedChromGenes | 0.120 | 0.000 | 0.121 | |