| Back to Multiple platform build/check report for BioC 3.8 | 
  | 
This page was generated on 2019-04-13 11:21:37 -0400 (Sat, 13 Apr 2019).
| Package 2/1649 | Hostname | OS / Arch | INSTALL | BUILD | CHECK | BUILD BIN | ||||||
| a4Base 1.30.0 Tobias Verbeke 
  | malbec1 | Linux (Ubuntu 16.04.6 LTS) / x86_64 | OK | OK | OK | |||||||
| tokay1 | Windows Server 2012 R2 Standard / x64 | OK | [ OK ] | ERROR | OK | |||||||
| merida1 | OS X 10.11.6 El Capitan / x86_64 | OK | OK | OK | OK | 
| Package: a4Base | 
| Version: 1.30.0 | 
| Command: chmod a+r a4Base -R && C:\Users\biocbuild\bbs-3.8-bioc\R\bin\R.exe CMD build --keep-empty-dirs --no-resave-data a4Base | 
| StartedAt: 2019-04-12 21:19:29 -0400 (Fri, 12 Apr 2019) | 
| EndedAt: 2019-04-12 21:19:33 -0400 (Fri, 12 Apr 2019) | 
| EllapsedTime: 4.3 seconds | 
| RetCode: 0 | 
| Status: OK | 
| PackageFile: a4Base_1.30.0.tar.gz | 
| PackageFileSize: 348.9 KiB | 
############################################################################## ############################################################################## ### ### Running command: ### ### chmod a+r a4Base -R && C:\Users\biocbuild\bbs-3.8-bioc\R\bin\R.exe CMD build --keep-empty-dirs --no-resave-data a4Base ### ############################################################################## ############################################################################## * checking for file 'a4Base/DESCRIPTION' ... OK * preparing 'a4Base': * checking DESCRIPTION meta-information ... OK * checking for LF line-endings in source and make files and shell scripts * checking for empty or unneeded directories * looking to see if a 'data/datalist' file should be added * building 'a4Base_1.30.0.tar.gz'