| Back to Multiple platform build/check report for BioC 3.8 |
|
This page was generated on 2019-04-16 11:51:27 -0400 (Tue, 16 Apr 2019).
| Package 1636/1649 | Hostname | OS / Arch | INSTALL | BUILD | CHECK | BUILD BIN | ||||||
| XBSeq 1.14.1 Yuanhang Liu
| malbec1 | Linux (Ubuntu 16.04.6 LTS) / x86_64 | OK | [ OK ] | OK | |||||||
| merida1 | OS X 10.11.6 El Capitan / x86_64 | OK | OK | OK | OK |
| Package: XBSeq |
| Version: 1.14.1 |
| Command: /home/biocbuild/bbs-3.8-bioc/R/bin/R CMD build --keep-empty-dirs --no-resave-data XBSeq |
| StartedAt: 2019-04-15 20:11:24 -0400 (Mon, 15 Apr 2019) |
| EndedAt: 2019-04-15 20:15:35 -0400 (Mon, 15 Apr 2019) |
| EllapsedTime: 251.0 seconds |
| RetCode: 0 |
| Status: OK |
| PackageFile: XBSeq_1.14.1.tar.gz |
| PackageFileSize: 1.048 MiB |
##############################################################################
##############################################################################
###
### Running command:
###
### /home/biocbuild/bbs-3.8-bioc/R/bin/R CMD build --keep-empty-dirs --no-resave-data XBSeq
###
##############################################################################
##############################################################################
* checking for file ‘XBSeq/DESCRIPTION’ ... OK
* preparing ‘XBSeq’:
* checking DESCRIPTION meta-information ... OK
* installing the package to build vignettes
* creating vignettes ... OK
Warning: ‘inst/doc’ file
‘XBSeq.html’
ignored as vignettes have been rebuilt.
Run R CMD build with --no-build-vignettes to prevent rebuilding.
* checking for LF line-endings in source and make files and shell scripts
* checking for empty or unneeded directories
* looking to see if a ‘data/datalist’ file should be added
* building ‘XBSeq_1.14.1.tar.gz’