| Back to Multiple platform build/check report for BioC 3.8 | 
  | 
This page was generated on 2019-04-16 11:54:28 -0400 (Tue, 16 Apr 2019).
| Package 1607/1649 | Hostname | OS / Arch | INSTALL | BUILD | CHECK | BUILD BIN | ||||||
| TypeInfo 1.48.0 Duncan Temple Lang 
  | malbec1 | Linux (Ubuntu 16.04.6 LTS) / x86_64 | OK | OK | OK | |||||||
| merida1 | OS X 10.11.6 El Capitan / x86_64 | OK | OK | OK | [ OK ] | 
| Package: TypeInfo | 
| Version: 1.48.0 | 
| Command: rm -rf TypeInfo.buildbin-libdir && mkdir TypeInfo.buildbin-libdir && /Users/biocbuild/BBS/utils/build-universal.sh TypeInfo_1.48.0.tar.gz /Library/Frameworks/R.framework/Versions/Current/Resources/bin/R TypeInfo.buildbin-libdir | 
| StartedAt: 2019-04-16 04:52:57 -0400 (Tue, 16 Apr 2019) | 
| EndedAt: 2019-04-16 04:53:43 -0400 (Tue, 16 Apr 2019) | 
| EllapsedTime: 46.6 seconds | 
| RetCode: 0 | 
| Status: OK | 
| PackageFile: TypeInfo_1.48.0.tgz | 
| PackageFileSize: 330.6 KiB | 
############################################################################## ############################################################################## ### ### Running command: ### ### rm -rf TypeInfo.buildbin-libdir && mkdir TypeInfo.buildbin-libdir && /Users/biocbuild/BBS/utils/build-universal.sh TypeInfo_1.48.0.tar.gz /Library/Frameworks/R.framework/Versions/Current/Resources/bin/R TypeInfo.buildbin-libdir ### ############################################################################## ############################################################################## >>>>>>> >>>>>>> INSTALLATION WITH 'R CMD INSTALL --preclean --no-multiarch --library=TypeInfo.buildbin-libdir TypeInfo_1.48.0.tar.gz' >>>>>>> * installing *source* package ‘TypeInfo’ ... ** R ** inst ** byte-compile and prepare package for lazy loading ** help *** installing help indices ** building package indices ** installing vignettes ** testing if installed package can be loaded * DONE (TypeInfo)