| Back to Multiple platform build/check report for BioC 3.8 | 
  | 
This page was generated on 2019-04-13 11:21:28 -0400 (Sat, 13 Apr 2019).
| Package 1599/1649 | Hostname | OS / Arch | INSTALL | BUILD | CHECK | BUILD BIN | ||||||
| TurboNorm 1.30.0 Maarten van Iterson 
  | malbec1 | Linux (Ubuntu 16.04.6 LTS) / x86_64 | OK | OK | NA | |||||||
| tokay1 | Windows Server 2012 R2 Standard / x64 | OK | OK | OK | [ OK ] | |||||||
| merida1 | OS X 10.11.6 El Capitan / x86_64 | OK | OK | OK | OK | 
| Package: TurboNorm | 
| Version: 1.30.0 | 
| Command: rm -rf TurboNorm.buildbin-libdir && mkdir TurboNorm.buildbin-libdir && C:\Users\biocbuild\bbs-3.8-bioc\R\bin\R.exe CMD INSTALL --merge-multiarch --build --library=TurboNorm.buildbin-libdir TurboNorm_1.30.0.tar.gz | 
| StartedAt: 2019-04-13 08:02:57 -0400 (Sat, 13 Apr 2019) | 
| EndedAt: 2019-04-13 08:03:15 -0400 (Sat, 13 Apr 2019) | 
| EllapsedTime: 18.1 seconds | 
| RetCode: 0 | 
| Status: OK | 
| PackageFile: TurboNorm_1.30.0.zip | 
| PackageFileSize: 750.6 KiB | 
##############################################################################
##############################################################################
###
### Running command:
###
###   rm -rf TurboNorm.buildbin-libdir && mkdir TurboNorm.buildbin-libdir && C:\Users\biocbuild\bbs-3.8-bioc\R\bin\R.exe CMD INSTALL --merge-multiarch --build --library=TurboNorm.buildbin-libdir TurboNorm_1.30.0.tar.gz
###
##############################################################################
##############################################################################
install for i386
* installing *source* package 'TurboNorm' ...
** libs
C:/Rtools/mingw_32/bin/gcc  -I"C:/Users/BIOCBU˜1/BBS-3˜1.8-B/R/include" -DNDEBUG     -I"C:/extsoft/include"     -O3 -Wall  -std=gnu99 -mtune=generic -c Rinit.c -o Rinit.o
Rinit.c:12:1: warning: missing braces around initializer [-Wmissing-braces]
 };
 ^
Rinit.c:12:1: warning: (near initialization for 'cMethods[2]') [-Wmissing-braces]
C:/Rtools/mingw_32/bin/gcc  -I"C:/Users/BIOCBU˜1/BBS-3˜1.8-B/R/include" -DNDEBUG     -I"C:/extsoft/include"     -O3 -Wall  -std=gnu99 -mtune=generic -c binners.c -o binners.o
C:/Rtools/mingw_32/bin/gcc -shared -s -static-libgcc -o TurboNorm.dll tmp.def Rinit.o binners.o -LC:/extsoft/lib/i386 -LC:/extsoft/lib -LC:/Users/BIOCBU˜1/BBS-3˜1.8-B/R/bin/i386 -lR
installing to C:/Users/biocbuild/bbs-3.8-bioc/meat/TurboNorm.buildbin-libdir/TurboNorm/libs/i386
** R
** data
** inst
** byte-compile and prepare package for lazy loading
** help
*** installing help indices
  converting help for package 'TurboNorm'
    finding HTML links ... done
    methylation                             html  
    normalize.pspline                       html  
    panel.pspline                           html  
    pspline                                 html  
    turbonorm-package                       html  
    turbotrend                              html  
** building package indices
** installing vignettes
** testing if installed package can be loaded
In R CMD INSTALL
install for x64
* installing *source* package 'TurboNorm' ...
** libs
C:/Rtools/mingw_64/bin/gcc  -I"C:/Users/BIOCBU˜1/BBS-3˜1.8-B/R/include" -DNDEBUG     -I"C:/extsoft/include"     -O2 -Wall  -std=gnu99 -mtune=generic -c Rinit.c -o Rinit.o
Rinit.c:12:1: warning: missing braces around initializer [-Wmissing-braces]
 };
 ^
Rinit.c:12:1: warning: (near initialization for 'cMethods[2]') [-Wmissing-braces]
C:/Rtools/mingw_64/bin/gcc  -I"C:/Users/BIOCBU˜1/BBS-3˜1.8-B/R/include" -DNDEBUG     -I"C:/extsoft/include"     -O2 -Wall  -std=gnu99 -mtune=generic -c binners.c -o binners.o
C:/Rtools/mingw_64/bin/gcc -shared -s -static-libgcc -o TurboNorm.dll tmp.def Rinit.o binners.o -LC:/extsoft/lib/x64 -LC:/extsoft/lib -LC:/Users/BIOCBU˜1/BBS-3˜1.8-B/R/bin/x64 -lR
installing to C:/Users/biocbuild/bbs-3.8-bioc/meat/TurboNorm.buildbin-libdir/TurboNorm/libs/x64
** testing if installed package can be loaded
* MD5 sums
packaged installation of 'TurboNorm' as TurboNorm_1.30.0.zip
* DONE (TurboNorm)
In R CMD INSTALL
In R CMD INSTALL