Back to Multiple platform build/check report for BioC 3.8 |
|
This page was generated on 2019-04-16 11:56:34 -0400 (Tue, 16 Apr 2019).
Package 1581/1649 | Hostname | OS / Arch | INSTALL | BUILD | CHECK | BUILD BIN | ||||||
TransView 1.26.1 Julius Muller
| malbec1 | Linux (Ubuntu 16.04.6 LTS) / x86_64 | OK | OK | OK | ![]() | ||||||
merida1 | OS X 10.11.6 El Capitan / x86_64 | [ OK ] | OK | OK | OK | ![]() |
Package: TransView |
Version: 1.26.1 |
Command: /Library/Frameworks/R.framework/Versions/Current/Resources/bin/R CMD INSTALL TransView |
StartedAt: 2019-04-15 18:26:58 -0400 (Mon, 15 Apr 2019) |
EndedAt: 2019-04-15 18:27:21 -0400 (Mon, 15 Apr 2019) |
EllapsedTime: 23.1 seconds |
RetCode: 0 |
Status: OK |
############################################################################## ############################################################################## ### ### Running command: ### ### /Library/Frameworks/R.framework/Versions/Current/Resources/bin/R CMD INSTALL TransView ### ############################################################################## ############################################################################## * installing to library ‘/Library/Frameworks/R.framework/Versions/3.5/Resources/library’ * installing *source* package ‘TransView’ ... ** libs clang -I"/Library/Frameworks/R.framework/Resources/include" -DNDEBUG -D_USE_KNETFILE -DBGZF_CACHE -D_FILE_OFFSET_BITS=64 -D_LARGEFILE64_SOURCE -I"/Library/Frameworks/R.framework/Versions/3.5/Resources/library/Rsamtools/include" -I/usr/local/include -fPIC -Wall -g -O2 -c R_init_TransView.c -o R_init_TransView.o clang -I"/Library/Frameworks/R.framework/Resources/include" -DNDEBUG -D_USE_KNETFILE -DBGZF_CACHE -D_FILE_OFFSET_BITS=64 -D_LARGEFILE64_SOURCE -I"/Library/Frameworks/R.framework/Versions/3.5/Resources/library/Rsamtools/include" -I/usr/local/include -fPIC -Wall -g -O2 -c bin_density.c -o bin_density.o clang -I"/Library/Frameworks/R.framework/Resources/include" -DNDEBUG -D_USE_KNETFILE -DBGZF_CACHE -D_FILE_OFFSET_BITS=64 -D_LARGEFILE64_SOURCE -I"/Library/Frameworks/R.framework/Versions/3.5/Resources/library/Rsamtools/include" -I/usr/local/include -fPIC -Wall -g -O2 -c construct_dc.c -o construct_dc.o clang -I"/Library/Frameworks/R.framework/Resources/include" -DNDEBUG -D_USE_KNETFILE -DBGZF_CACHE -D_FILE_OFFSET_BITS=64 -D_LARGEFILE64_SOURCE -I"/Library/Frameworks/R.framework/Versions/3.5/Resources/library/Rsamtools/include" -I/usr/local/include -fPIC -Wall -g -O2 -c parse_sam.c -o parse_sam.o clang -I"/Library/Frameworks/R.framework/Resources/include" -DNDEBUG -D_USE_KNETFILE -DBGZF_CACHE -D_FILE_OFFSET_BITS=64 -D_LARGEFILE64_SOURCE -I"/Library/Frameworks/R.framework/Versions/3.5/Resources/library/Rsamtools/include" -I/usr/local/include -fPIC -Wall -g -O2 -c slice_dc.c -o slice_dc.o clang -I"/Library/Frameworks/R.framework/Resources/include" -DNDEBUG -D_USE_KNETFILE -DBGZF_CACHE -D_FILE_OFFSET_BITS=64 -D_LARGEFILE64_SOURCE -I"/Library/Frameworks/R.framework/Versions/3.5/Resources/library/Rsamtools/include" -I/usr/local/include -fPIC -Wall -g -O2 -c visuals.c -o visuals.o clang -dynamiclib -Wl,-headerpad_max_install_names -undefined dynamic_lookup -single_module -multiply_defined suppress -L/Library/Frameworks/R.framework/Resources/lib -L/usr/local/lib -o TransView.so R_init_TransView.o bin_density.o construct_dc.o parse_sam.o slice_dc.o visuals.o /Library/Frameworks/R.framework/Versions/3.5/Resources/library/Rsamtools/usrlib//libbam.a /Library/Frameworks/R.framework/Versions/3.5/Resources/library/Rsamtools/usrlib//libbcf.a /Library/Frameworks/R.framework/Versions/3.5/Resources/library/Rsamtools/usrlib//libtabix.a -lz -pthread -F/Library/Frameworks/R.framework/.. -framework R -Wl,-framework -Wl,CoreFoundation clang-4.0: warning: argument unused during compilation: '-pthread' [-Wunused-command-line-argument] installing to /Library/Frameworks/R.framework/Versions/3.5/Resources/library/TransView/libs ** R ** inst ** byte-compile and prepare package for lazy loading ** help *** installing help indices ** building package indices ** installing vignettes ** testing if installed package can be loaded * DONE (TransView)