| Back to Multiple platform build/check report for BioC 3.8 | 
  | 
This page was generated on 2019-04-13 11:24:36 -0400 (Sat, 13 Apr 2019).
| Package 1571/1649 | Hostname | OS / Arch | INSTALL | BUILD | CHECK | BUILD BIN | ||||||
| ToPASeq 1.16.1 Ludwig Geistlinger 
  | malbec1 | Linux (Ubuntu 16.04.6 LTS) / x86_64 | OK | OK | NA | |||||||
| tokay1 | Windows Server 2012 R2 Standard / x64 | OK | OK | OK | [ OK ] | |||||||
| merida1 | OS X 10.11.6 El Capitan / x86_64 | OK | OK | OK | OK | 
| Package: ToPASeq | 
| Version: 1.16.1 | 
| Command: rm -rf ToPASeq.buildbin-libdir && mkdir ToPASeq.buildbin-libdir && C:\Users\biocbuild\bbs-3.8-bioc\R\bin\R.exe CMD INSTALL --merge-multiarch --build --library=ToPASeq.buildbin-libdir ToPASeq_1.16.1.tar.gz | 
| StartedAt: 2019-04-13 08:01:55 -0400 (Sat, 13 Apr 2019) | 
| EndedAt: 2019-04-13 08:02:46 -0400 (Sat, 13 Apr 2019) | 
| EllapsedTime: 51.8 seconds | 
| RetCode: 0 | 
| Status: OK | 
| PackageFile: ToPASeq_1.16.1.zip | 
| PackageFileSize: 837 KiB | 
##############################################################################
##############################################################################
###
### Running command:
###
###   rm -rf ToPASeq.buildbin-libdir && mkdir ToPASeq.buildbin-libdir && C:\Users\biocbuild\bbs-3.8-bioc\R\bin\R.exe CMD INSTALL --merge-multiarch --build --library=ToPASeq.buildbin-libdir ToPASeq_1.16.1.tar.gz
###
##############################################################################
##############################################################################
install for i386
* installing *source* package 'ToPASeq' ...
** libs
C:/Rtools/mingw_32/bin/g++  -I"C:/Users/BIOCBU˜1/BBS-3˜1.8-B/R/include" -DNDEBUG  -I"C:/Users/biocbuild/bbs-3.8-bioc/R/library/Rcpp/include"   -I"C:/extsoft/include"     -O2 -Wall  -mtune=generic -c RcppExports.cpp -o RcppExports.o
C:/Rtools/mingw_32/bin/g++  -I"C:/Users/BIOCBU˜1/BBS-3˜1.8-B/R/include" -DNDEBUG  -I"C:/Users/biocbuild/bbs-3.8-bioc/R/library/Rcpp/include"   -I"C:/extsoft/include"     -O2 -Wall  -mtune=generic -c accCpp.cpp -o accCpp.o
C:/Rtools/mingw_32/bin/g++  -I"C:/Users/BIOCBU˜1/BBS-3˜1.8-B/R/include" -DNDEBUG  -I"C:/Users/biocbuild/bbs-3.8-bioc/R/library/Rcpp/include"   -I"C:/extsoft/include"     -O2 -Wall  -mtune=generic -c betweeness.cpp -o betweeness.o
C:/Rtools/mingw_32/bin/g++  -I"C:/Users/BIOCBU˜1/BBS-3˜1.8-B/R/include" -DNDEBUG  -I"C:/Users/biocbuild/bbs-3.8-bioc/R/library/Rcpp/include"   -I"C:/extsoft/include"     -O2 -Wall  -mtune=generic -c colMinMax.cpp -o colMinMax.o
C:/Rtools/mingw_32/bin/g++  -I"C:/Users/BIOCBU˜1/BBS-3˜1.8-B/R/include" -DNDEBUG  -I"C:/Users/biocbuild/bbs-3.8-bioc/R/library/Rcpp/include"   -I"C:/extsoft/include"     -O2 -Wall  -mtune=generic -c downstream.cpp -o downstream.o
C:/Rtools/mingw_32/bin/g++ -shared -s -static-libgcc -o ToPASeq.dll tmp.def RcppExports.o accCpp.o betweeness.o colMinMax.o downstream.o -LC:/extsoft/lib/i386 -LC:/extsoft/lib -LC:/Users/BIOCBU˜1/BBS-3˜1.8-B/R/bin/i386 -lR
installing to C:/Users/biocbuild/bbs-3.8-bioc/meat/ToPASeq.buildbin-libdir/ToPASeq/libs/i386
** R
** inst
** byte-compile and prepare package for lazy loading
** help
*** installing help indices
  converting help for package 'ToPASeq'
    finding HTML links ... done
    PRS                                     html  
    finding level-2 HTML links ... done
** building package indices
** installing vignettes
** testing if installed package can be loaded
In R CMD INSTALL
install for x64
* installing *source* package 'ToPASeq' ...
** libs
C:/Rtools/mingw_64/bin/g++  -I"C:/Users/BIOCBU˜1/BBS-3˜1.8-B/R/include" -DNDEBUG  -I"C:/Users/biocbuild/bbs-3.8-bioc/R/library/Rcpp/include"   -I"C:/extsoft/include"     -O2 -Wall  -mtune=generic -c RcppExports.cpp -o RcppExports.o
C:/Rtools/mingw_64/bin/g++  -I"C:/Users/BIOCBU˜1/BBS-3˜1.8-B/R/include" -DNDEBUG  -I"C:/Users/biocbuild/bbs-3.8-bioc/R/library/Rcpp/include"   -I"C:/extsoft/include"     -O2 -Wall  -mtune=generic -c accCpp.cpp -o accCpp.o
C:/Rtools/mingw_64/bin/g++  -I"C:/Users/BIOCBU˜1/BBS-3˜1.8-B/R/include" -DNDEBUG  -I"C:/Users/biocbuild/bbs-3.8-bioc/R/library/Rcpp/include"   -I"C:/extsoft/include"     -O2 -Wall  -mtune=generic -c betweeness.cpp -o betweeness.o
C:/Rtools/mingw_64/bin/g++  -I"C:/Users/BIOCBU˜1/BBS-3˜1.8-B/R/include" -DNDEBUG  -I"C:/Users/biocbuild/bbs-3.8-bioc/R/library/Rcpp/include"   -I"C:/extsoft/include"     -O2 -Wall  -mtune=generic -c colMinMax.cpp -o colMinMax.o
C:/Rtools/mingw_64/bin/g++  -I"C:/Users/BIOCBU˜1/BBS-3˜1.8-B/R/include" -DNDEBUG  -I"C:/Users/biocbuild/bbs-3.8-bioc/R/library/Rcpp/include"   -I"C:/extsoft/include"     -O2 -Wall  -mtune=generic -c downstream.cpp -o downstream.o
C:/Rtools/mingw_64/bin/g++ -shared -s -static-libgcc -o ToPASeq.dll tmp.def RcppExports.o accCpp.o betweeness.o colMinMax.o downstream.o -LC:/extsoft/lib/x64 -LC:/extsoft/lib -LC:/Users/BIOCBU˜1/BBS-3˜1.8-B/R/bin/x64 -lR
installing to C:/Users/biocbuild/bbs-3.8-bioc/meat/ToPASeq.buildbin-libdir/ToPASeq/libs/x64
** testing if installed package can be loaded
* MD5 sums
packaged installation of 'ToPASeq' as ToPASeq_1.16.1.zip
* DONE (ToPASeq)
In R CMD INSTALL
In R CMD INSTALL