| Back to Multiple platform build/check report for BioC 3.8 | 
  | 
This page was generated on 2019-04-13 11:29:54 -0400 (Sat, 13 Apr 2019).
| Package 1563/1649 | Hostname | OS / Arch | INSTALL | BUILD | CHECK | BUILD BIN | ||||||
| TimeSeriesExperiment 1.0.4 Lan Huong Nguyen 
  | malbec1 | Linux (Ubuntu 16.04.6 LTS) / x86_64 | OK | OK | NA | |||||||
| tokay1 | Windows Server 2012 R2 Standard / x64 | OK | [ OK ] | OK | OK | |||||||
| merida1 | OS X 10.11.6 El Capitan / x86_64 | OK | OK | OK | OK | 
| Package: TimeSeriesExperiment | 
| Version: 1.0.4 | 
| Command: chmod a+r TimeSeriesExperiment -R && C:\Users\biocbuild\bbs-3.8-bioc\R\bin\R.exe CMD build --keep-empty-dirs --no-resave-data TimeSeriesExperiment | 
| StartedAt: 2019-04-13 00:03:48 -0400 (Sat, 13 Apr 2019) | 
| EndedAt: 2019-04-13 00:05:48 -0400 (Sat, 13 Apr 2019) | 
| EllapsedTime: 120.7 seconds | 
| RetCode: 0 | 
| Status: OK | 
| PackageFile: TimeSeriesExperiment_1.0.4.tar.gz | 
| PackageFileSize: 877.1 KiB | 
############################################################################## ############################################################################## ### ### Running command: ### ### chmod a+r TimeSeriesExperiment -R && C:\Users\biocbuild\bbs-3.8-bioc\R\bin\R.exe CMD build --keep-empty-dirs --no-resave-data TimeSeriesExperiment ### ############################################################################## ############################################################################## * checking for file 'TimeSeriesExperiment/DESCRIPTION' ... OK * preparing 'TimeSeriesExperiment': * checking DESCRIPTION meta-information ... OK * installing the package to build vignettes * creating vignettes ... OK * checking for LF line-endings in source and make files and shell scripts * checking for empty or unneeded directories * looking to see if a 'data/datalist' file should be added * building 'TimeSeriesExperiment_1.0.4.tar.gz'