TFEA.ChIP.Rcheck/tests_i386/runTests.Rout
R version 3.5.3 (2019-03-11) -- "Great Truth"
Copyright (C) 2019 The R Foundation for Statistical Computing
Platform: i386-w64-mingw32/i386 (32-bit)
R is free software and comes with ABSOLUTELY NO WARRANTY.
You are welcome to redistribute it under certain conditions.
Type 'license()' or 'licence()' for distribution details.
R is a collaborative project with many contributors.
Type 'contributors()' for more information and
'citation()' on how to cite R or R packages in publications.
Type 'demo()' for some demos, 'help()' for on-line help, or
'help.start()' for an HTML browser interface to help.
Type 'q()' to quit R.
> BiocGenerics:::testPackage(pkgname = "TFEA.ChIP")
Attaching package: 'dplyr'
The following objects are masked from 'package:stats':
filter, lag
The following objects are masked from 'package:base':
intersect, setdiff, setequal, union
Attaching package: 'BiocGenerics'
The following objects are masked from 'package:parallel':
clusterApply, clusterApplyLB, clusterCall, clusterEvalQ,
clusterExport, clusterMap, parApply, parCapply, parLapply,
parLapplyLB, parRapply, parSapply, parSapplyLB
The following objects are masked from 'package:dplyr':
combine, intersect, setdiff, union
The following objects are masked from 'package:stats':
IQR, mad, sd, var, xtabs
The following objects are masked from 'package:base':
Filter, Find, Map, Position, Reduce, anyDuplicated, append,
as.data.frame, basename, cbind, colMeans, colSums, colnames,
dirname, do.call, duplicated, eval, evalq, get, grep, grepl,
intersect, is.unsorted, lapply, lengths, mapply, match, mget,
order, paste, pmax, pmax.int, pmin, pmin.int, rank, rbind,
rowMeans, rowSums, rownames, sapply, setdiff, sort, table, tapply,
union, unique, unsplit, which, which.max, which.min
Attaching package: 'S4Vectors'
The following objects are masked from 'package:dplyr':
first, rename
The following object is masked from 'package:base':
expand.grid
Attaching package: 'IRanges'
The following objects are masked from 'package:dplyr':
collapse, desc, slice
The following object is masked from 'package:grDevices':
windows
Welcome to Bioconductor
Vignettes contain introductory material; view with
'browseVignettes()'. To cite Bioconductor, see
'citation("Biobase")', and for packages 'citation("pkgname")'.
Attaching package: 'AnnotationDbi'
The following object is masked from 'package:dplyr':
select
|
| | 0%
|
|====== | 9%
|
|============= | 18%
|
|=================== | 27%
|
|========================= | 36%
|
|================================ | 45%
|
|====================================== | 55%
|
|============================================= | 64%
|
|=================================================== | 73%
|
|========================================================= | 82%
|
|================================================================ | 91%
|
|======================================================================| 100%
|
| | 0%
|
|=================================== | 50%
|
|======================================================================| 100%
Done! 2 genes of 2 successfully translated.
Done! 1 genes of 1 successfully translated.
Done! 1 genes of 1 successfully translated.
Done! 2 genes of 2 successfully translated.
Done! 0 genes of 1 successfully translated.
Couldn't find Entrez IDs for 1 genes (NAs returned instead).
Done! 16975 genes of 17527 successfully translated.
Couldn't find Entrez IDs for 552 genes.
Done! 10457 genes of 11667 successfully translated.
Couldn't find Entrez IDs for 1210 genes.
Done! 16975 genes of 17527 successfully translated.
Couldn't find Entrez IDs for 552 genes.
Done! 10457 genes of 11667 successfully translated.
Couldn't find Entrez IDs for 1210 genes.
RUNIT TEST PROTOCOL -- Sat Apr 13 06:04:59 2019
***********************************************
Number of test functions: 11
Number of errors: 0
Number of failures: 0
1 Test Suite :
TFEA.ChIP RUnit Tests - 11 test functions, 0 errors, 0 failures
Number of test functions: 11
Number of errors: 0
Number of failures: 0
Warning message:
Some genes returned 1:many mapping to ENTREZ ID. Genes were assigned the first ENTREZ ID match found.
>
> proc.time()
user system elapsed
105.50 3.15 108.79
|
TFEA.ChIP.Rcheck/tests_x64/runTests.Rout
R version 3.5.3 (2019-03-11) -- "Great Truth"
Copyright (C) 2019 The R Foundation for Statistical Computing
Platform: x86_64-w64-mingw32/x64 (64-bit)
R is free software and comes with ABSOLUTELY NO WARRANTY.
You are welcome to redistribute it under certain conditions.
Type 'license()' or 'licence()' for distribution details.
R is a collaborative project with many contributors.
Type 'contributors()' for more information and
'citation()' on how to cite R or R packages in publications.
Type 'demo()' for some demos, 'help()' for on-line help, or
'help.start()' for an HTML browser interface to help.
Type 'q()' to quit R.
> BiocGenerics:::testPackage(pkgname = "TFEA.ChIP")
Attaching package: 'dplyr'
The following objects are masked from 'package:stats':
filter, lag
The following objects are masked from 'package:base':
intersect, setdiff, setequal, union
Attaching package: 'BiocGenerics'
The following objects are masked from 'package:parallel':
clusterApply, clusterApplyLB, clusterCall, clusterEvalQ,
clusterExport, clusterMap, parApply, parCapply, parLapply,
parLapplyLB, parRapply, parSapply, parSapplyLB
The following objects are masked from 'package:dplyr':
combine, intersect, setdiff, union
The following objects are masked from 'package:stats':
IQR, mad, sd, var, xtabs
The following objects are masked from 'package:base':
Filter, Find, Map, Position, Reduce, anyDuplicated, append,
as.data.frame, basename, cbind, colMeans, colSums, colnames,
dirname, do.call, duplicated, eval, evalq, get, grep, grepl,
intersect, is.unsorted, lapply, lengths, mapply, match, mget,
order, paste, pmax, pmax.int, pmin, pmin.int, rank, rbind,
rowMeans, rowSums, rownames, sapply, setdiff, sort, table, tapply,
union, unique, unsplit, which, which.max, which.min
Attaching package: 'S4Vectors'
The following objects are masked from 'package:dplyr':
first, rename
The following object is masked from 'package:base':
expand.grid
Attaching package: 'IRanges'
The following objects are masked from 'package:dplyr':
collapse, desc, slice
The following object is masked from 'package:grDevices':
windows
Welcome to Bioconductor
Vignettes contain introductory material; view with
'browseVignettes()'. To cite Bioconductor, see
'citation("Biobase")', and for packages 'citation("pkgname")'.
Attaching package: 'AnnotationDbi'
The following object is masked from 'package:dplyr':
select
|
| | 0%
|
|====== | 9%
|
|============= | 18%
|
|=================== | 27%
|
|========================= | 36%
|
|================================ | 45%
|
|====================================== | 55%
|
|============================================= | 64%
|
|=================================================== | 73%
|
|========================================================= | 82%
|
|================================================================ | 91%
|
|======================================================================| 100%
|
| | 0%
|
|=================================== | 50%
|
|======================================================================| 100%
Done! 2 genes of 2 successfully translated.
Done! 1 genes of 1 successfully translated.
Done! 1 genes of 1 successfully translated.
Done! 2 genes of 2 successfully translated.
Done! 0 genes of 1 successfully translated.
Couldn't find Entrez IDs for 1 genes (NAs returned instead).
Done! 16975 genes of 17527 successfully translated.
Couldn't find Entrez IDs for 552 genes.
Done! 10457 genes of 11667 successfully translated.
Couldn't find Entrez IDs for 1210 genes.
Done! 16975 genes of 17527 successfully translated.
Couldn't find Entrez IDs for 552 genes.
Done! 10457 genes of 11667 successfully translated.
Couldn't find Entrez IDs for 1210 genes.
RUNIT TEST PROTOCOL -- Sat Apr 13 06:07:02 2019
***********************************************
Number of test functions: 11
Number of errors: 0
Number of failures: 0
1 Test Suite :
TFEA.ChIP RUnit Tests - 11 test functions, 0 errors, 0 failures
Number of test functions: 11
Number of errors: 0
Number of failures: 0
Warning message:
Some genes returned 1:many mapping to ENTREZ ID. Genes were assigned the first ENTREZ ID match found.
>
> proc.time()
user system elapsed
119.10 2.73 121.85
|