| Back to Multiple platform build/check report for BioC 3.8 |
|
This page was generated on 2019-04-13 11:27:26 -0400 (Sat, 13 Apr 2019).
| Package 1549/1649 | Hostname | OS / Arch | INSTALL | BUILD | CHECK | BUILD BIN | ||||||
| TCseq 1.6.1 Mengjun Wu
| malbec1 | Linux (Ubuntu 16.04.6 LTS) / x86_64 | OK | OK | NA | |||||||
| tokay1 | Windows Server 2012 R2 Standard / x64 | OK | OK | OK | [ OK ] | |||||||
| merida1 | OS X 10.11.6 El Capitan / x86_64 | OK | OK | OK | OK |
| Package: TCseq |
| Version: 1.6.1 |
| Command: rm -rf TCseq.buildbin-libdir && mkdir TCseq.buildbin-libdir && C:\Users\biocbuild\bbs-3.8-bioc\R\bin\R.exe CMD INSTALL --merge-multiarch --build --library=TCseq.buildbin-libdir TCseq_1.6.1.tar.gz |
| StartedAt: 2019-04-13 08:01:04 -0400 (Sat, 13 Apr 2019) |
| EndedAt: 2019-04-13 08:01:35 -0400 (Sat, 13 Apr 2019) |
| EllapsedTime: 31.4 seconds |
| RetCode: 0 |
| Status: OK |
| PackageFile: TCseq_1.6.1.zip |
| PackageFileSize: 816.9 KiB |
##############################################################################
##############################################################################
###
### Running command:
###
### rm -rf TCseq.buildbin-libdir && mkdir TCseq.buildbin-libdir && C:\Users\biocbuild\bbs-3.8-bioc\R\bin\R.exe CMD INSTALL --merge-multiarch --build --library=TCseq.buildbin-libdir TCseq_1.6.1.tar.gz
###
##############################################################################
##############################################################################
install for i386
* installing *source* package 'TCseq' ...
** R
** data
*** moving datasets to lazyload DB
** inst
** byte-compile and prepare package for lazy loading
** help
*** installing help indices
converting help for package 'TCseq'
finding HTML links ... done
DBanalysis html
finding level-2 HTML links ... done
DBresult html
TCA html
TCA.accessors html
clust-class html
clust.accessors html
countReads html
counts html
countsTable html
experiment html
experiment_BAMfile html
genomicIntervals html
peakreference html
tca_ATAC html
timeclust html
timeclustplot html
timecourseTable html
** building package indices
** installing vignettes
** testing if installed package can be loaded
In R CMD INSTALL
install for x64
* installing *source* package 'TCseq' ...
** testing if installed package can be loaded
* MD5 sums
packaged installation of 'TCseq' as TCseq_1.6.1.zip
* DONE (TCseq)
In R CMD INSTALL
In R CMD INSTALL