| Back to Multiple platform build/check report for BioC 3.8 |
|
This page was generated on 2019-04-16 12:00:24 -0400 (Tue, 16 Apr 2019).
| Package 1547/1649 | Hostname | OS / Arch | INSTALL | BUILD | CHECK | BUILD BIN | ||||||
| TCGAbiolinksGUI 1.8.1 Tiago C. Silva
| malbec1 | Linux (Ubuntu 16.04.6 LTS) / x86_64 | OK | OK | OK | |||||||
| merida1 | OS X 10.11.6 El Capitan / x86_64 | OK | OK | OK | [ OK ] |
| Package: TCGAbiolinksGUI |
| Version: 1.8.1 |
| Command: rm -rf TCGAbiolinksGUI.buildbin-libdir && mkdir TCGAbiolinksGUI.buildbin-libdir && /Users/biocbuild/BBS/utils/build-universal.sh TCGAbiolinksGUI_1.8.1.tar.gz /Library/Frameworks/R.framework/Versions/Current/Resources/bin/R TCGAbiolinksGUI.buildbin-libdir |
| StartedAt: 2019-04-16 04:49:57 -0400 (Tue, 16 Apr 2019) |
| EndedAt: 2019-04-16 04:50:57 -0400 (Tue, 16 Apr 2019) |
| EllapsedTime: 60.3 seconds |
| RetCode: 0 |
| Status: OK |
| PackageFile: TCGAbiolinksGUI_1.8.1.tgz |
| PackageFileSize: 16.77 MiB |
############################################################################## ############################################################################## ### ### Running command: ### ### rm -rf TCGAbiolinksGUI.buildbin-libdir && mkdir TCGAbiolinksGUI.buildbin-libdir && /Users/biocbuild/BBS/utils/build-universal.sh TCGAbiolinksGUI_1.8.1.tar.gz /Library/Frameworks/R.framework/Versions/Current/Resources/bin/R TCGAbiolinksGUI.buildbin-libdir ### ############################################################################## ############################################################################## >>>>>>> >>>>>>> INSTALLATION WITH 'R CMD INSTALL --preclean --no-multiarch --library=TCGAbiolinksGUI.buildbin-libdir TCGAbiolinksGUI_1.8.1.tar.gz' >>>>>>> * installing *source* package ‘TCGAbiolinksGUI’ ... ** R ** inst ** byte-compile and prepare package for lazy loading ** help *** installing help indices ** building package indices ** installing vignettes ** testing if installed package can be loaded * DONE (TCGAbiolinksGUI)