| Back to Multiple platform build/check report for BioC 3.8 | 
  | 
This page was generated on 2019-04-13 11:23:15 -0400 (Sat, 13 Apr 2019).
| Package 1450/1649 | Hostname | OS / Arch | INSTALL | BUILD | CHECK | BUILD BIN | ||||||
| SimBindProfiles 1.20.0 Bettina Fischer 
  | malbec1 | Linux (Ubuntu 16.04.6 LTS) / x86_64 | OK | OK | NA | |||||||
| tokay1 | Windows Server 2012 R2 Standard / x64 | OK | OK | WARNINGS | [ OK ] | |||||||
| merida1 | OS X 10.11.6 El Capitan / x86_64 | OK | OK | OK | OK | 
| Package: SimBindProfiles | 
| Version: 1.20.0 | 
| Command: rm -rf SimBindProfiles.buildbin-libdir && mkdir SimBindProfiles.buildbin-libdir && C:\Users\biocbuild\bbs-3.8-bioc\R\bin\R.exe CMD INSTALL --merge-multiarch --build --library=SimBindProfiles.buildbin-libdir SimBindProfiles_1.20.0.tar.gz | 
| StartedAt: 2019-04-13 07:57:50 -0400 (Sat, 13 Apr 2019) | 
| EndedAt: 2019-04-13 07:58:11 -0400 (Sat, 13 Apr 2019) | 
| EllapsedTime: 20.9 seconds | 
| RetCode: 0 | 
| Status: OK | 
| PackageFile: SimBindProfiles_1.20.0.zip | 
| PackageFileSize: 1.792 MiB | 
##############################################################################
##############################################################################
###
### Running command:
###
###   rm -rf SimBindProfiles.buildbin-libdir && mkdir SimBindProfiles.buildbin-libdir && C:\Users\biocbuild\bbs-3.8-bioc\R\bin\R.exe CMD INSTALL --merge-multiarch --build --library=SimBindProfiles.buildbin-libdir SimBindProfiles_1.20.0.tar.gz
###
##############################################################################
##############################################################################
install for i386
* installing *source* package 'SimBindProfiles' ...
** R
** data
** inst
** byte-compile and prepare package for lazy loading
** help
*** installing help indices
  converting help for package 'SimBindProfiles'
    finding HTML links ... done
    SGR                                     html  
    SimBindProfiles-package                 html  
    compensationRegions                     html  
    eSetScatterPlot                         html  
    findBoundCutoff                         html  
    increasedBindingRegions                 html  
    pairwiseRegions                         html  
    plotBoundProbes                         html  
    probeAnnoFromESet                       html  
Rd warning: C:/Users/biocbuild/bbs-3.8-bioc/tmpdir/RtmpierFPw/R.INSTALLf1c7871b07/SimBindProfiles/man/probeAnnoFromESet.Rd:33: file link 'probeAnno-class' in package 'Ringo' does not exist and so has been treated as a topic
    probeLengthPlot                         html  
    readSgrFiles                            html  
Rd warning: C:/Users/biocbuild/bbs-3.8-bioc/tmpdir/RtmpierFPw/R.INSTALLf1c7871b07/SimBindProfiles/man/readSgrFiles.Rd:29: file link 'ExpressionSet' in package 'Biobase' does not exist and so has been treated as a topic
    threewayRegions                         html  
** building package indices
** installing vignettes
** testing if installed package can be loaded
In R CMD INSTALL
install for x64
* installing *source* package 'SimBindProfiles' ...
** testing if installed package can be loaded
* MD5 sums
packaged installation of 'SimBindProfiles' as SimBindProfiles_1.20.0.zip
* DONE (SimBindProfiles)
In R CMD INSTALL
In R CMD INSTALL