| Back to Multiple platform build/check report for BioC 3.8 | 
  | 
This page was generated on 2019-04-13 11:27:56 -0400 (Sat, 13 Apr 2019).
| Package 1389/1649 | Hostname | OS / Arch | INSTALL | BUILD | CHECK | BUILD BIN | ||||||
| Scale4C 1.4.0 Carolin Walter 
  | malbec1 | Linux (Ubuntu 16.04.6 LTS) / x86_64 | OK | OK | OK | |||||||
| tokay1 | Windows Server 2012 R2 Standard / x64 | OK | OK | OK | [ OK ] | |||||||
| merida1 | OS X 10.11.6 El Capitan / x86_64 | OK | OK | OK | OK | 
| Package: Scale4C | 
| Version: 1.4.0 | 
| Command: rm -rf Scale4C.buildbin-libdir && mkdir Scale4C.buildbin-libdir && C:\Users\biocbuild\bbs-3.8-bioc\R\bin\R.exe CMD INSTALL --merge-multiarch --build --library=Scale4C.buildbin-libdir Scale4C_1.4.0.tar.gz | 
| StartedAt: 2019-04-13 07:55:12 -0400 (Sat, 13 Apr 2019) | 
| EndedAt: 2019-04-13 07:55:38 -0400 (Sat, 13 Apr 2019) | 
| EllapsedTime: 25.6 seconds | 
| RetCode: 0 | 
| Status: OK | 
| PackageFile: Scale4C_1.4.0.zip | 
| PackageFileSize: 2.185 MiB | 
##############################################################################
##############################################################################
###
### Running command:
###
###   rm -rf Scale4C.buildbin-libdir && mkdir Scale4C.buildbin-libdir && C:\Users\biocbuild\bbs-3.8-bioc\R\bin\R.exe CMD INSTALL --merge-multiarch --build --library=Scale4C.buildbin-libdir Scale4C_1.4.0.tar.gz
###
##############################################################################
##############################################################################
install for i386
* installing *source* package 'Scale4C' ...
** R
** data
** inst
** byte-compile and prepare package for lazy loading
** help
*** installing help indices
  converting help for package 'Scale4C'
    finding HTML links ... done
    Scale4C-class                           html  
    Scale4C                                 html  
    addPointsOfInterest                     html  
    calculateFingerprintMap                 html  
    calculateScaleSpace                     html  
    findSingularities                       html  
    importBasic4CseqData                    html  
    liverData                               html  
    liverDataVP                             html  
    outputScaleSpaceTree                    html  
    plotInflectionPoints                    html  
    plotTesselation                         html  
    plotTraceback                           html  
** building package indices
** installing vignettes
** testing if installed package can be loaded
In R CMD INSTALL
install for x64
* installing *source* package 'Scale4C' ...
** testing if installed package can be loaded
* MD5 sums
packaged installation of 'Scale4C' as Scale4C_1.4.0.zip
* DONE (Scale4C)
In R CMD INSTALL
In R CMD INSTALL