| Back to Multiple platform build/check report for BioC 3.8 | 
  | 
This page was generated on 2019-04-13 11:25:11 -0400 (Sat, 13 Apr 2019).
| Package 1531/1649 | Hostname | OS / Arch | INSTALL | BUILD | CHECK | BUILD BIN | ||||||
| SVM2CRM 1.14.0 Guidantonio Malagoli Tagliazucchi 
  | malbec1 | Linux (Ubuntu 16.04.6 LTS) / x86_64 | OK | OK | NA | |||||||
| tokay1 | Windows Server 2012 R2 Standard / x64 | OK | OK | ERROR | [ OK ] | |||||||
| merida1 | OS X 10.11.6 El Capitan / x86_64 | OK | OK | WARNINGS | OK | 
| Package: SVM2CRM | 
| Version: 1.14.0 | 
| Command: rm -rf SVM2CRM.buildbin-libdir && mkdir SVM2CRM.buildbin-libdir && C:\Users\biocbuild\bbs-3.8-bioc\R\bin\R.exe CMD INSTALL --merge-multiarch --build --library=SVM2CRM.buildbin-libdir SVM2CRM_1.14.0.tar.gz | 
| StartedAt: 2019-04-13 08:00:31 -0400 (Sat, 13 Apr 2019) | 
| EndedAt: 2019-04-13 08:00:58 -0400 (Sat, 13 Apr 2019) | 
| EllapsedTime: 27.4 seconds | 
| RetCode: 0 | 
| Status: OK | 
| PackageFile: SVM2CRM_1.14.0.zip | 
| PackageFileSize: 298.9 KiB | 
##############################################################################
##############################################################################
###
### Running command:
###
###   rm -rf SVM2CRM.buildbin-libdir && mkdir SVM2CRM.buildbin-libdir && C:\Users\biocbuild\bbs-3.8-bioc\R\bin\R.exe CMD INSTALL --merge-multiarch --build --library=SVM2CRM.buildbin-libdir SVM2CRM_1.14.0.tar.gz
###
##############################################################################
##############################################################################
install for i386
* installing *source* package 'SVM2CRM' ...
** R
** inst
** byte-compile and prepare package for lazy loading
** help
*** installing help indices
  converting help for package 'SVM2CRM'
    finding HTML links ... done
    cisREfindbed                            html  
    createBed                               html  
    createSVMinput                          html  
    featSelectionWithKmeans                 html  
    findFeatureOverlap                      html  
    frequencyHM                             html  
    getSignal                               html  
    performanceSVM                          html  
    plotFscore                              html  
    plotROC                                 html  
    predictionGW                            html  
    smoothInputFS                           html  
    tuningParametersCombROC                 html  
** building package indices
** installing vignettes
** testing if installed package can be loaded
In R CMD INSTALL
install for x64
* installing *source* package 'SVM2CRM' ...
** testing if installed package can be loaded
* MD5 sums
packaged installation of 'SVM2CRM' as SVM2CRM_1.14.0.zip
* DONE (SVM2CRM)
In R CMD INSTALL
In R CMD INSTALL