| Back to Multiple platform build/check report for BioC 3.8 | 
  | 
This page was generated on 2019-04-13 11:27:00 -0400 (Sat, 13 Apr 2019).
| Package 1530/1649 | Hostname | OS / Arch | INSTALL | BUILD | CHECK | BUILD BIN | ||||||
| SVAPLSseq 1.8.1 Sutirtha Chakraborty 
  | malbec1 | Linux (Ubuntu 16.04.6 LTS) / x86_64 | OK | OK | NA | |||||||
| tokay1 | Windows Server 2012 R2 Standard / x64 | OK | [ OK ] | OK | OK | |||||||
| merida1 | OS X 10.11.6 El Capitan / x86_64 | OK | OK | OK | OK | 
| Package: SVAPLSseq | 
| Version: 1.8.1 | 
| Command: chmod a+r SVAPLSseq -R && C:\Users\biocbuild\bbs-3.8-bioc\R\bin\R.exe CMD build --keep-empty-dirs --no-resave-data SVAPLSseq | 
| StartedAt: 2019-04-12 23:04:10 -0400 (Fri, 12 Apr 2019) | 
| EndedAt: 2019-04-12 23:05:04 -0400 (Fri, 12 Apr 2019) | 
| EllapsedTime: 54.2 seconds | 
| RetCode: 0 | 
| Status: OK | 
| PackageFile: SVAPLSseq_1.8.1.tar.gz | 
| PackageFileSize: 216.1 KiB | 
############################################################################## ############################################################################## ### ### Running command: ### ### chmod a+r SVAPLSseq -R && C:\Users\biocbuild\bbs-3.8-bioc\R\bin\R.exe CMD build --keep-empty-dirs --no-resave-data SVAPLSseq ### ############################################################################## ############################################################################## * checking for file 'SVAPLSseq/DESCRIPTION' ... OK * preparing 'SVAPLSseq': * checking DESCRIPTION meta-information ... OK * installing the package to build vignettes * creating vignettes ... OK * checking for LF line-endings in source and make files and shell scripts * checking for empty or unneeded directories * looking to see if a 'data/datalist' file should be added * building 'SVAPLSseq_1.8.1.tar.gz'