| Back to Multiple platform build/check report for BioC 3.8 | 
  | 
This page was generated on 2019-04-13 11:20:10 -0400 (Sat, 13 Apr 2019).
| Package 1467/1649 | Hostname | OS / Arch | INSTALL | BUILD | CHECK | BUILD BIN | ||||||
| SLqPCR 1.48.0 Matthias Kohl 
  | malbec1 | Linux (Ubuntu 16.04.6 LTS) / x86_64 | OK | OK | NA | |||||||
| tokay1 | Windows Server 2012 R2 Standard / x64 | OK | OK | OK | [ OK ] | |||||||
| merida1 | OS X 10.11.6 El Capitan / x86_64 | OK | OK | OK | OK | 
| Package: SLqPCR | 
| Version: 1.48.0 | 
| Command: rm -rf SLqPCR.buildbin-libdir && mkdir SLqPCR.buildbin-libdir && C:\Users\biocbuild\bbs-3.8-bioc\R\bin\R.exe CMD INSTALL --merge-multiarch --build --library=SLqPCR.buildbin-libdir SLqPCR_1.48.0.tar.gz | 
| StartedAt: 2019-04-13 07:58:28 -0400 (Sat, 13 Apr 2019) | 
| EndedAt: 2019-04-13 07:58:33 -0400 (Sat, 13 Apr 2019) | 
| EllapsedTime: 5.9 seconds | 
| RetCode: 0 | 
| Status: OK | 
| PackageFile: SLqPCR_1.48.0.zip | 
| PackageFileSize: 192.7 KiB | 
##############################################################################
##############################################################################
###
### Running command:
###
###   rm -rf SLqPCR.buildbin-libdir && mkdir SLqPCR.buildbin-libdir && C:\Users\biocbuild\bbs-3.8-bioc\R\bin\R.exe CMD INSTALL --merge-multiarch --build --library=SLqPCR.buildbin-libdir SLqPCR_1.48.0.tar.gz
###
##############################################################################
##############################################################################
install for i386
* installing *source* package 'SLqPCR' ...
** R
** data
** inst
** byte-compile and prepare package for lazy loading
** help
*** installing help indices
  converting help for package 'SLqPCR'
    finding HTML links ... done
    SLqPCR-package                          html  
    SLqPCRdata                              html  
    geneStabM                               html  
    geomMean                                html  
    normPCR                                 html  
    relQuantPCR                             html  
    selectHKgenes                           html  
    vandesompele                            html  
** building package indices
** installing vignettes
** testing if installed package can be loaded
In R CMD INSTALL
install for x64
* installing *source* package 'SLqPCR' ...
** testing if installed package can be loaded
* MD5 sums
packaged installation of 'SLqPCR' as SLqPCR_1.48.0.zip
* DONE (SLqPCR)
In R CMD INSTALL
In R CMD INSTALL