| Back to Multiple platform build/check report for BioC 3.8 | 
  | 
This page was generated on 2019-04-16 11:58:26 -0400 (Tue, 16 Apr 2019).
| Package 1449/1649 | Hostname | OS / Arch | INSTALL | BUILD | CHECK | BUILD BIN | ||||||
| SIMAT 1.14.1 M. R. Nezami Ranjbar 
  | malbec1 | Linux (Ubuntu 16.04.6 LTS) / x86_64 | OK | OK | OK | |||||||
| merida1 | OS X 10.11.6 El Capitan / x86_64 | OK | OK | [ OK ] | OK | 
| Package: SIMAT | 
| Version: 1.14.1 | 
| Command: /Library/Frameworks/R.framework/Versions/Current/Resources/bin/R CMD check --install=check:SIMAT.install-out.txt --library=/Library/Frameworks/R.framework/Versions/Current/Resources/library --no-vignettes --timings SIMAT_1.14.1.tar.gz | 
| StartedAt: 2019-04-16 02:49:38 -0400 (Tue, 16 Apr 2019) | 
| EndedAt: 2019-04-16 02:51:03 -0400 (Tue, 16 Apr 2019) | 
| EllapsedTime: 85.0 seconds | 
| RetCode: 0 | 
| Status: OK | 
| CheckDir: SIMAT.Rcheck | 
| Warnings: 0 | 
############################################################################## ############################################################################## ### ### Running command: ### ### /Library/Frameworks/R.framework/Versions/Current/Resources/bin/R CMD check --install=check:SIMAT.install-out.txt --library=/Library/Frameworks/R.framework/Versions/Current/Resources/library --no-vignettes --timings SIMAT_1.14.1.tar.gz ### ############################################################################## ############################################################################## * using log directory ‘/Users/biocbuild/bbs-3.8-bioc/meat/SIMAT.Rcheck’ * using R version 3.5.3 (2019-03-11) * using platform: x86_64-apple-darwin15.6.0 (64-bit) * using session charset: UTF-8 * using option ‘--no-vignettes’ * checking for file ‘SIMAT/DESCRIPTION’ ... OK * checking extension type ... Package * this is package ‘SIMAT’ version ‘1.14.1’ * checking package namespace information ... OK * checking package dependencies ... OK * checking if this is a source package ... OK * checking if there is a namespace ... OK * checking for hidden files and directories ... OK * checking for portable file names ... OK * checking for sufficient/correct file permissions ... OK * checking whether package ‘SIMAT’ can be installed ... OK * checking installed package size ... OK * checking package directory ... OK * checking ‘build’ directory ... OK * checking DESCRIPTION meta-information ... OK * checking top-level files ... OK * checking for left-over files ... OK * checking index information ... OK * checking package subdirectories ... OK * checking R files for non-ASCII characters ... OK * checking R files for syntax errors ... OK * checking whether the package can be loaded ... OK * checking whether the package can be loaded with stated dependencies ... OK * checking whether the package can be unloaded cleanly ... OK * checking whether the namespace can be loaded with stated dependencies ... OK * checking whether the namespace can be unloaded cleanly ... OK * checking dependencies in R code ... OK * checking S3 generic/method consistency ... OK * checking replacement functions ... OK * checking foreign function calls ... OK * checking R code for possible problems ... OK * checking Rd files ... OK * checking Rd metadata ... OK * checking Rd cross-references ... OK * checking for missing documentation entries ... OK * checking for code/documentation mismatches ... OK * checking Rd \usage sections ... OK * checking Rd contents ... OK * checking for unstated dependencies in examples ... OK * checking contents of ‘data’ directory ... OK * checking data for non-ASCII characters ... OK * checking data for ASCII and uncompressed saves ... OK * checking sizes of PDF files under ‘inst/doc’ ... OK * checking files in ‘vignettes’ ... OK * checking examples ... OK * checking for unstated dependencies in ‘tests’ ... OK * checking tests ... Running ‘runTests.R’ OK * checking for unstated dependencies in vignettes ... OK * checking package vignettes in ‘inst/doc’ ... OK * checking running R code from vignettes ... SKIPPED * checking re-building of vignette outputs ... SKIPPED * checking PDF version of manual ... OK * DONE Status: OK
SIMAT.Rcheck/00install.out
############################################################################## ############################################################################## ### ### Running command: ### ### /Library/Frameworks/R.framework/Versions/Current/Resources/bin/R CMD INSTALL SIMAT ### ############################################################################## ############################################################################## * installing to library ‘/Library/Frameworks/R.framework/Versions/3.5/Resources/library’ * installing *source* package ‘SIMAT’ ... ** R ** data ** inst ** byte-compile and prepare package for lazy loading ** help *** installing help indices ** building package indices ** installing vignettes ** testing if installed package can be loaded * DONE (SIMAT)
SIMAT.Rcheck/tests/runTests.Rout
R version 3.5.3 (2019-03-11) -- "Great Truth"
Copyright (C) 2019 The R Foundation for Statistical Computing
Platform: x86_64-apple-darwin15.6.0 (64-bit)
R is free software and comes with ABSOLUTELY NO WARRANTY.
You are welcome to redistribute it under certain conditions.
Type 'license()' or 'licence()' for distribution details.
R is a collaborative project with many contributors.
Type 'contributors()' for more information and
'citation()' on how to cite R or R packages in publications.
Type 'demo()' for some demos, 'help()' for on-line help, or
'help.start()' for an HTML browser interface to help.
Type 'q()' to quit R.
> ## function for RUnit tests
> 
> BiocGenerics:::testPackage("SIMAT")
RUNIT TEST PROTOCOL -- Tue Apr 16 02:50:59 2019 
*********************************************** 
Number of test functions: 16 
Number of errors: 0 
Number of failures: 0 
 
1 Test Suite : 
SIMAT RUnit Tests - 16 test functions, 0 errors, 0 failures
Number of test functions: 16 
Number of errors: 0 
Number of failures: 0 
> 
> proc.time()
   user  system elapsed 
  1.967   0.155   2.121 
SIMAT.Rcheck/SIMAT-Ex.timings
| name | user | system | elapsed | |
| Library | 0.009 | 0.004 | 0.013 | |
| RItable | 0.002 | 0.004 | 0.006 | |
| Run | 0.125 | 0.011 | 0.137 | |
| Targets | 0.002 | 0.003 | 0.005 | |
| getEIC | 0.134 | 0.013 | 0.149 | |
| getPeak | 0.477 | 0.018 | 0.502 | |
| getPeakScore | 0.493 | 0.012 | 0.513 | |
| getRI | 0.001 | 0.004 | 0.005 | |
| getRIStandard | 0.004 | 0.001 | 0.004 | |
| getScore | 0 | 0 | 0 | |
| getTarget | 3.106 | 0.564 | 3.743 | |
| getTargetTable | 0.004 | 0.000 | 0.004 | |
| optFrag | 2.761 | 0.444 | 3.263 | |
| plotEIC | 1.296 | 0.025 | 1.325 | |
| plotTIC | 0.393 | 0.013 | 0.408 | |
| putTargetTable | 0.002 | 0.007 | 0.009 | |
| readCDF | 2.424 | 0.022 | 2.486 | |
| readMSL | 0.025 | 0.000 | 0.030 | |
| target.table | 0.001 | 0.005 | 0.007 | |
| writeMSL | 0.005 | 0.007 | 0.011 | |
| writeResult | 0.516 | 0.015 | 0.539 | |