| Back to Multiple platform build/check report for BioC 3.8 | 
  | 
This page was generated on 2019-04-13 11:29:12 -0400 (Sat, 13 Apr 2019).
| Package 1408/1649 | Hostname | OS / Arch | INSTALL | BUILD | CHECK | BUILD BIN | ||||||
| SDAMS 1.2.1 Yuntong Li 
  | malbec1 | Linux (Ubuntu 16.04.6 LTS) / x86_64 | OK | OK | NA | |||||||
| tokay1 | Windows Server 2012 R2 Standard / x64 | OK | OK | OK | [ OK ] | |||||||
| merida1 | OS X 10.11.6 El Capitan / x86_64 | OK | OK | OK | OK | 
| Package: SDAMS | 
| Version: 1.2.1 | 
| Command: rm -rf SDAMS.buildbin-libdir && mkdir SDAMS.buildbin-libdir && C:\Users\biocbuild\bbs-3.8-bioc\R\bin\R.exe CMD INSTALL --merge-multiarch --build --library=SDAMS.buildbin-libdir SDAMS_1.2.1.tar.gz | 
| StartedAt: 2019-04-13 07:55:55 -0400 (Sat, 13 Apr 2019) | 
| EndedAt: 2019-04-13 07:56:20 -0400 (Sat, 13 Apr 2019) | 
| EllapsedTime: 25.3 seconds | 
| RetCode: 0 | 
| Status: OK | 
| PackageFile: SDAMS_1.2.1.zip | 
| PackageFileSize: 599.6 KiB | 
##############################################################################
##############################################################################
###
### Running command:
###
###   rm -rf SDAMS.buildbin-libdir && mkdir SDAMS.buildbin-libdir && C:\Users\biocbuild\bbs-3.8-bioc\R\bin\R.exe CMD INSTALL --merge-multiarch --build --library=SDAMS.buildbin-libdir SDAMS_1.2.1.tar.gz
###
##############################################################################
##############################################################################
install for i386
* installing *source* package 'SDAMS' ...
** R
** data
** inst
** byte-compile and prepare package for lazy loading
** help
*** installing help indices
  converting help for package 'SDAMS'
    finding HTML links ... done
    SDA                                     html  
    finding level-2 HTML links ... done
    SDAMS-package                           html  
    dataInput                               html  
    exampleData                             html  
** building package indices
** installing vignettes
** testing if installed package can be loaded
In R CMD INSTALL
install for x64
* installing *source* package 'SDAMS' ...
** testing if installed package can be loaded
* MD5 sums
packaged installation of 'SDAMS' as SDAMS_1.2.1.zip
* DONE (SDAMS)
In R CMD INSTALL
In R CMD INSTALL