Back to Multiple platform build/check report for BioC 3.8 |
|
This page was generated on 2019-04-13 11:22:24 -0400 (Sat, 13 Apr 2019).
Package 1390/1649 | Hostname | OS / Arch | INSTALL | BUILD | CHECK | BUILD BIN | ||||||
SCAN.UPC 2.24.1 Stephen R. Piccolo
| malbec1 | Linux (Ubuntu 16.04.6 LTS) / x86_64 | OK | OK | OK | |||||||
tokay1 | Windows Server 2012 R2 Standard / x64 | OK | OK | OK | [ OK ] | ![]() | ||||||
merida1 | OS X 10.11.6 El Capitan / x86_64 | OK | OK | OK | OK | ![]() |
Package: SCAN.UPC |
Version: 2.24.1 |
Command: rm -rf SCAN.UPC.buildbin-libdir && mkdir SCAN.UPC.buildbin-libdir && C:\Users\biocbuild\bbs-3.8-bioc\R\bin\R.exe CMD INSTALL --merge-multiarch --build --library=SCAN.UPC.buildbin-libdir SCAN.UPC_2.24.1.tar.gz |
StartedAt: 2019-04-13 07:55:14 -0400 (Sat, 13 Apr 2019) |
EndedAt: 2019-04-13 07:55:40 -0400 (Sat, 13 Apr 2019) |
EllapsedTime: 26.1 seconds |
RetCode: 0 |
Status: OK |
PackageFile: SCAN.UPC_2.24.1.zip |
PackageFileSize: 467.7 KiB |
############################################################################## ############################################################################## ### ### Running command: ### ### rm -rf SCAN.UPC.buildbin-libdir && mkdir SCAN.UPC.buildbin-libdir && C:\Users\biocbuild\bbs-3.8-bioc\R\bin\R.exe CMD INSTALL --merge-multiarch --build --library=SCAN.UPC.buildbin-libdir SCAN.UPC_2.24.1.tar.gz ### ############################################################################## ############################################################################## install for i386 * installing *source* package 'SCAN.UPC' ... ** R ** inst ** byte-compile and prepare package for lazy loading Parallel computing support for 'oligo/crlmm': Disabled - Load 'ff' - Load and register a 'foreach' adaptor Example - Using 'multicore' for 2 cores: library(doMC) registerDoMC(2) ================================================================================ ** help *** installing help indices converting help for package 'SCAN.UPC' finding HTML links ... done BatchAdjust html BatchAdjustFromFile html InstallBrainArrayPackage html ParseMetaFromGtfFile html SCAN html SCAN_TwoColor html UPC_Generic html UPC_Generic_ExpressionSet html UPC_RNASeq html UPC_RNASeq_Single html UPC_TwoColor html ** building package indices ** installing vignettes ** testing if installed package can be loaded Parallel computing support for 'oligo/crlmm': Disabled - Load 'ff' - Load and register a 'foreach' adaptor Example - Using 'multicore' for 2 cores: library(doMC) registerDoMC(2) ================================================================================ In R CMD INSTALL install for x64 * installing *source* package 'SCAN.UPC' ... ** testing if installed package can be loaded Parallel computing support for 'oligo/crlmm': Disabled - Load 'ff' - Load and register a 'foreach' adaptor Example - Using 'multicore' for 2 cores: library(doMC) registerDoMC(2) ================================================================================ * MD5 sums packaged installation of 'SCAN.UPC' as SCAN.UPC_2.24.1.zip * DONE (SCAN.UPC) In R CMD INSTALL In R CMD INSTALL