| Back to Multiple platform build/check report for BioC 3.8 | 
  | 
This page was generated on 2019-04-16 11:54:54 -0400 (Tue, 16 Apr 2019).
| Package 1345/1649 | Hostname | OS / Arch | INSTALL | BUILD | CHECK | BUILD BIN | ||||||
| RpsiXML 2.24.0 Jitao David Zhang 
  | malbec1 | Linux (Ubuntu 16.04.6 LTS) / x86_64 | OK | OK | OK | |||||||
| merida1 | OS X 10.11.6 El Capitan / x86_64 | OK | OK | OK | [ OK ] | 
| Package: RpsiXML | 
| Version: 2.24.0 | 
| Command: rm -rf RpsiXML.buildbin-libdir && mkdir RpsiXML.buildbin-libdir && /Users/biocbuild/BBS/utils/build-universal.sh RpsiXML_2.24.0.tar.gz /Library/Frameworks/R.framework/Versions/Current/Resources/bin/R RpsiXML.buildbin-libdir | 
| StartedAt: 2019-04-16 04:40:35 -0400 (Tue, 16 Apr 2019) | 
| EndedAt: 2019-04-16 04:41:10 -0400 (Tue, 16 Apr 2019) | 
| EllapsedTime: 35.5 seconds | 
| RetCode: 0 | 
| Status: OK | 
| PackageFile: RpsiXML_2.24.0.tgz | 
| PackageFileSize: 2.964 MiB | 
############################################################################## ############################################################################## ### ### Running command: ### ### rm -rf RpsiXML.buildbin-libdir && mkdir RpsiXML.buildbin-libdir && /Users/biocbuild/BBS/utils/build-universal.sh RpsiXML_2.24.0.tar.gz /Library/Frameworks/R.framework/Versions/Current/Resources/bin/R RpsiXML.buildbin-libdir ### ############################################################################## ############################################################################## >>>>>>> >>>>>>> INSTALLATION WITH 'R CMD INSTALL --preclean --no-multiarch --library=RpsiXML.buildbin-libdir RpsiXML_2.24.0.tar.gz' >>>>>>> * installing *source* package ‘RpsiXML’ ... ** R ** inst ** byte-compile and prepare package for lazy loading No methods found in package ‘Biobase’ for request: ‘listlen’ when loading ‘RpsiXML’ No methods found in package ‘annotate’ for requests: ‘pubmed’, ‘buildPubMedAbst’ when loading ‘RpsiXML’ Note: in method for ‘head’ with signature ‘x="ANY"’: expanding the signature to include omitted arguments in definition: x = "missing" Note: in method for ‘tail’ with signature ‘x="ANY"’: expanding the signature to include omitted arguments in definition: x = "missing" ** help *** installing help indices ** building package indices ** installing vignettes ** testing if installed package can be loaded No methods found in package ‘Biobase’ for request: ‘listlen’ when loading ‘RpsiXML’ No methods found in package ‘annotate’ for requests: ‘pubmed’, ‘buildPubMedAbst’ when loading ‘RpsiXML’ * DONE (RpsiXML)