| Back to Multiple platform build/check report for BioC 3.8 |
|
This page was generated on 2019-04-13 11:27:59 -0400 (Sat, 13 Apr 2019).
| Package 1307/1649 | Hostname | OS / Arch | INSTALL | BUILD | CHECK | BUILD BIN | ||||||
| Rhdf5lib 1.4.3 Mike Smith
| malbec1 | Linux (Ubuntu 16.04.6 LTS) / x86_64 | OK | OK | OK | |||||||
| tokay1 | Windows Server 2012 R2 Standard / x64 | OK | OK | OK | [ OK ] | |||||||
| merida1 | OS X 10.11.6 El Capitan / x86_64 | OK | OK | OK | OK |
| Package: Rhdf5lib |
| Version: 1.4.3 |
| Command: rm -rf Rhdf5lib.buildbin-libdir && mkdir Rhdf5lib.buildbin-libdir && C:\Users\biocbuild\bbs-3.8-bioc\R\bin\R.exe CMD INSTALL --merge-multiarch --build --library=Rhdf5lib.buildbin-libdir Rhdf5lib_1.4.3.tar.gz |
| StartedAt: 2019-04-13 07:52:02 -0400 (Sat, 13 Apr 2019) |
| EndedAt: 2019-04-13 07:52:36 -0400 (Sat, 13 Apr 2019) |
| EllapsedTime: 33.9 seconds |
| RetCode: 0 |
| Status: OK |
| PackageFile: Rhdf5lib_1.4.3.zip |
| PackageFileSize: 7.508 MiB |
##############################################################################
##############################################################################
###
### Running command:
###
### rm -rf Rhdf5lib.buildbin-libdir && mkdir Rhdf5lib.buildbin-libdir && C:\Users\biocbuild\bbs-3.8-bioc\R\bin\R.exe CMD INSTALL --merge-multiarch --build --library=Rhdf5lib.buildbin-libdir Rhdf5lib_1.4.3.tar.gz
###
##############################################################################
##############################################################################
install for i386
* installing *source* package 'Rhdf5lib' ...
untarring hdf5_headers_1.10.3.tar.gz ...
** libs
mkdir -p "C:/Users/biocbuild/bbs-3.8-bioc/meat/Rhdf5lib.buildbin-libdir/Rhdf5lib/lib/i386/" "C:/Users/biocbuild/bbs-3.8-bioc/meat/Rhdf5lib.buildbin-libdir/Rhdf5lib/include"
cp "winlib/i386/libhdf5.a" "C:/Users/biocbuild/bbs-3.8-bioc/meat/Rhdf5lib.buildbin-libdir/Rhdf5lib/lib/i386/libhdf5.a"
cp "winlib/i386/libhdf5_cpp.a" "C:/Users/biocbuild/bbs-3.8-bioc/meat/Rhdf5lib.buildbin-libdir/Rhdf5lib/lib/i386/libhdf5_cpp.a"
cp "winlib/i386/libszip.a" "C:/Users/biocbuild/bbs-3.8-bioc/meat/Rhdf5lib.buildbin-libdir/Rhdf5lib/lib/i386/libszip.a"
cp ./hdf5/*.h "C:/Users/biocbuild/bbs-3.8-bioc/meat/Rhdf5lib.buildbin-libdir/Rhdf5lib/include"
cp ./hdf5/c++/*.h "C:/Users/biocbuild/bbs-3.8-bioc/meat/Rhdf5lib.buildbin-libdir/Rhdf5lib/include"
C:/Rtools/mingw_32/bin/gcc -I"C:/Users/BIOCBU˜1/BBS-3˜1.8-B/R/include" -DNDEBUG -I"C:/extsoft/include" -I./hdf5 -O3 -Wall -std=gnu99 -mtune=generic -c Rhdf5lib.c -o Rhdf5lib.o
C:/Rtools/mingw_32/bin/gcc -shared -s -static-libgcc -o Rhdf5lib.dll tmp.def Rhdf5lib.o winlib/i386/libhdf5.a winlib/i386/libszip.a -lpsapi -lz -LC:/extsoft/lib/i386 -LC:/extsoft/lib -LC:/Users/BIOCBU˜1/BBS-3˜1.8-B/R/bin/i386 -lR
installing to C:/Users/biocbuild/bbs-3.8-bioc/meat/Rhdf5lib.buildbin-libdir/Rhdf5lib/libs/i386
** R
** inst
** byte-compile and prepare package for lazy loading
** help
*** installing help indices
converting help for package 'Rhdf5lib'
finding HTML links ... done
Rhdf5lib html
getHdf5Version html
pkgconfig html
** building package indices
** installing vignettes
** testing if installed package can be loaded
In R CMD INSTALL
install for x64
* installing *source* package 'Rhdf5lib' ...
untarring hdf5_headers_1.10.3.tar.gz ...
** libs
mkdir -p "C:/Users/biocbuild/bbs-3.8-bioc/meat/Rhdf5lib.buildbin-libdir/Rhdf5lib/lib/x64/" "C:/Users/biocbuild/bbs-3.8-bioc/meat/Rhdf5lib.buildbin-libdir/Rhdf5lib/include"
cp "winlib/x64/libhdf5.a" "C:/Users/biocbuild/bbs-3.8-bioc/meat/Rhdf5lib.buildbin-libdir/Rhdf5lib/lib/x64/libhdf5.a"
cp "winlib/x64/libhdf5_cpp.a" "C:/Users/biocbuild/bbs-3.8-bioc/meat/Rhdf5lib.buildbin-libdir/Rhdf5lib/lib/x64/libhdf5_cpp.a"
cp "winlib/x64/libszip.a" "C:/Users/biocbuild/bbs-3.8-bioc/meat/Rhdf5lib.buildbin-libdir/Rhdf5lib/lib/x64/libszip.a"
cp ./hdf5/*.h "C:/Users/biocbuild/bbs-3.8-bioc/meat/Rhdf5lib.buildbin-libdir/Rhdf5lib/include"
cp ./hdf5/c++/*.h "C:/Users/biocbuild/bbs-3.8-bioc/meat/Rhdf5lib.buildbin-libdir/Rhdf5lib/include"
C:/Rtools/mingw_64/bin/gcc -I"C:/Users/BIOCBU˜1/BBS-3˜1.8-B/R/include" -DNDEBUG -I"C:/extsoft/include" -I./hdf5 -O2 -Wall -std=gnu99 -mtune=generic -c Rhdf5lib.c -o Rhdf5lib.o
C:/Rtools/mingw_64/bin/gcc -shared -s -static-libgcc -o Rhdf5lib.dll tmp.def Rhdf5lib.o winlib/x64/libhdf5.a winlib/x64/libszip.a -lpsapi -lz -LC:/extsoft/lib/x64 -LC:/extsoft/lib -LC:/Users/BIOCBU˜1/BBS-3˜1.8-B/R/bin/x64 -lR
installing to C:/Users/biocbuild/bbs-3.8-bioc/meat/Rhdf5lib.buildbin-libdir/Rhdf5lib/libs/x64
** testing if installed package can be loaded
* MD5 sums
packaged installation of 'Rhdf5lib' as Rhdf5lib_1.4.3.zip
* DONE (Rhdf5lib)
In R CMD INSTALL
In R CMD INSTALL