| Back to Multiple platform build/check report for BioC 3.8 | 
  | 
This page was generated on 2019-04-13 11:23:49 -0400 (Sat, 13 Apr 2019).
| Package 1284/1649 | Hostname | OS / Arch | INSTALL | BUILD | CHECK | BUILD BIN | ||||||
| RefNet 1.18.0 Paul Shannon 
  | malbec1 | Linux (Ubuntu 16.04.6 LTS) / x86_64 | OK | OK | OK | |||||||
| tokay1 | Windows Server 2012 R2 Standard / x64 | [ OK ] | OK | OK | OK | |||||||
| merida1 | OS X 10.11.6 El Capitan / x86_64 | OK | OK | OK | OK | 
| Package: RefNet | 
| Version: 1.18.0 | 
| Command: C:\cygwin\bin\curl.exe -O https://malbec1.bioconductor.org/BBS/3.8/bioc/src/contrib/RefNet_1.18.0.tar.gz && rm -rf RefNet.buildbin-libdir && mkdir RefNet.buildbin-libdir && C:\Users\biocbuild\bbs-3.8-bioc\R\bin\R.exe CMD INSTALL --merge-multiarch --build --library=RefNet.buildbin-libdir RefNet_1.18.0.tar.gz && C:\Users\biocbuild\bbs-3.8-bioc\R\bin\R.exe CMD INSTALL RefNet_1.18.0.zip && rm RefNet_1.18.0.tar.gz RefNet_1.18.0.zip | 
| StartedAt: 2019-04-12 20:26:05 -0400 (Fri, 12 Apr 2019) | 
| EndedAt: 2019-04-12 20:26:45 -0400 (Fri, 12 Apr 2019) | 
| EllapsedTime: 39.3 seconds | 
| RetCode: 0 | 
| Status: OK | 
##############################################################################
##############################################################################
###
### Running command:
###
###   C:\cygwin\bin\curl.exe -O https://malbec1.bioconductor.org/BBS/3.8/bioc/src/contrib/RefNet_1.18.0.tar.gz && rm -rf RefNet.buildbin-libdir && mkdir RefNet.buildbin-libdir && C:\Users\biocbuild\bbs-3.8-bioc\R\bin\R.exe CMD INSTALL --merge-multiarch --build --library=RefNet.buildbin-libdir RefNet_1.18.0.tar.gz && C:\Users\biocbuild\bbs-3.8-bioc\R\bin\R.exe CMD INSTALL RefNet_1.18.0.zip && rm RefNet_1.18.0.tar.gz RefNet_1.18.0.zip
###
##############################################################################
##############################################################################
  % Total    % Received % Xferd  Average Speed   Time    Time     Time  Current
                                 Dload  Upload   Total   Spent    Left  Speed
  0     0    0     0    0     0      0      0 --:--:-- --:--:-- --:--:--     0
100 92386  100 92386    0     0  2429k      0 --:--:-- --:--:-- --:--:-- 2733k
install for i386
* installing *source* package 'RefNet' ...
** R
** inst
** byte-compile and prepare package for lazy loading
Warning: replacing previous import 'IRanges::desc' by 'plyr::desc' when loading 'PSICQUIC'
** help
*** installing help indices
  converting help for package 'RefNet'
    finding HTML links ... done
    RefNet-class                            html  
    detectDuplicateInteractions             html  
    interactions                            html  
    pickBestFromDupGroup                    html  
    providerClasses                         html  
    providers                               html  
    pubmedAbstract                          html  
** building package indices
** installing vignettes
** testing if installed package can be loaded
Warning: replacing previous import 'IRanges::desc' by 'plyr::desc' when loading 'PSICQUIC'
In R CMD INSTALL
install for x64
* installing *source* package 'RefNet' ...
** testing if installed package can be loaded
Warning: replacing previous import 'IRanges::desc' by 'plyr::desc' when loading 'PSICQUIC'
* MD5 sums
packaged installation of 'RefNet' as RefNet_1.18.0.zip
* DONE (RefNet)
In R CMD INSTALL
In R CMD INSTALL
* installing to library 'C:/Users/biocbuild/bbs-3.8-bioc/R/library'
package 'RefNet' successfully unpacked and MD5 sums checked
In R CMD INSTALL