| Back to Multiple platform build/check report for BioC 3.8 | 
  | 
This page was generated on 2019-04-13 11:19:37 -0400 (Sat, 13 Apr 2019).
| Package 1249/1649 | Hostname | OS / Arch | INSTALL | BUILD | CHECK | BUILD BIN | ||||||
| RankProd 3.8.0 Francesco Del Carratore 
  | malbec1 | Linux (Ubuntu 16.04.6 LTS) / x86_64 | OK | OK | OK | |||||||
| tokay1 | Windows Server 2012 R2 Standard / x64 | OK | OK | OK | [ OK ] | |||||||
| merida1 | OS X 10.11.6 El Capitan / x86_64 | OK | OK | OK | OK | 
| Package: RankProd | 
| Version: 3.8.0 | 
| Command: rm -rf RankProd.buildbin-libdir && mkdir RankProd.buildbin-libdir && C:\Users\biocbuild\bbs-3.8-bioc\R\bin\R.exe CMD INSTALL --merge-multiarch --build --library=RankProd.buildbin-libdir RankProd_3.8.0.tar.gz | 
| StartedAt: 2019-04-13 07:49:30 -0400 (Sat, 13 Apr 2019) | 
| EndedAt: 2019-04-13 07:49:36 -0400 (Sat, 13 Apr 2019) | 
| EllapsedTime: 6.2 seconds | 
| RetCode: 0 | 
| Status: OK | 
| PackageFile: RankProd_3.8.0.zip | 
| PackageFileSize: 659.8 KiB | 
##############################################################################
##############################################################################
###
### Running command:
###
###   rm -rf RankProd.buildbin-libdir && mkdir RankProd.buildbin-libdir && C:\Users\biocbuild\bbs-3.8-bioc\R\bin\R.exe CMD INSTALL --merge-multiarch --build --library=RankProd.buildbin-libdir RankProd_3.8.0.tar.gz
###
##############################################################################
##############################################################################
install for i386
* installing *source* package 'RankProd' ...
** R
** data
** inst
** byte-compile and prepare package for lazy loading
[1] "this is the new version of the RankProd package"
** help
*** installing help indices
  converting help for package 'RankProd'
    finding HTML links ... done
    Apples                                  html  
    RP                                      html  
    RP.advance                              html  
    RPadvance                               html  
    RSadvance                               html  
    RankProd-internal                       html  
    RankProducts                            html  
    arab                                    html  
    golub                                   html  
    lymphoma                                html  
    plotRP                                  html  
    topGene                                 html  
** building package indices
** installing vignettes
** testing if installed package can be loaded
In R CMD INSTALL
install for x64
* installing *source* package 'RankProd' ...
** testing if installed package can be loaded
* MD5 sums
packaged installation of 'RankProd' as RankProd_3.8.0.zip
* DONE (RankProd)
In R CMD INSTALL
In R CMD INSTALL