| Back to Multiple platform build/check report for BioC 3.8 | 
  | 
This page was generated on 2019-04-16 11:51:34 -0400 (Tue, 16 Apr 2019).
| Package 1360/1649 | Hostname | OS / Arch | INSTALL | BUILD | CHECK | BUILD BIN | ||||||
| RTCGA 1.12.1 Marcin Kosinski 
  | malbec1 | Linux (Ubuntu 16.04.6 LTS) / x86_64 | OK | [ OK ] | OK | |||||||
| merida1 | OS X 10.11.6 El Capitan / x86_64 | OK | OK | OK | OK | 
| Package: RTCGA | 
| Version: 1.12.1 | 
| Command: /home/biocbuild/bbs-3.8-bioc/R/bin/R CMD build --keep-empty-dirs --no-resave-data RTCGA | 
| StartedAt: 2019-04-15 20:15:52 -0400 (Mon, 15 Apr 2019) | 
| EndedAt: 2019-04-15 20:16:04 -0400 (Mon, 15 Apr 2019) | 
| EllapsedTime: 12.9 seconds | 
| RetCode: 0 | 
| Status: OK | 
| PackageFile: RTCGA_1.12.1.tar.gz | 
| PackageFileSize: 388.2 KiB | 
############################################################################## ############################################################################## ### ### Running command: ### ### /home/biocbuild/bbs-3.8-bioc/R/bin/R CMD build --keep-empty-dirs --no-resave-data RTCGA ### ############################################################################## ############################################################################## * checking for file ‘RTCGA/DESCRIPTION’ ... OK * preparing ‘RTCGA’: * checking DESCRIPTION meta-information ... OK * installing the package to build vignettes * creating vignettes ... OK * checking for LF line-endings in source and make files and shell scripts * checking for empty or unneeded directories * building ‘RTCGA_1.12.1.tar.gz’