| Back to Multiple platform build/check report for BioC 3.8 | 
 | 
This page was generated on 2019-04-16 11:53:57 -0400 (Tue, 16 Apr 2019).
| Package 1337/1649 | Hostname | OS / Arch | INSTALL | BUILD | CHECK | BUILD BIN | ||||||
| ROC 1.58.0 Vince Carey 
 | malbec1 | Linux (Ubuntu 16.04.6 LTS) / x86_64 | OK | OK | OK |  | ||||||
| merida1 | OS X 10.11.6 El Capitan / x86_64 | OK | OK | OK | [ OK ] |  | 
| Package: ROC | 
| Version: 1.58.0 | 
| Command: rm -rf ROC.buildbin-libdir && mkdir ROC.buildbin-libdir && /Users/biocbuild/BBS/utils/build-universal.sh ROC_1.58.0.tar.gz /Library/Frameworks/R.framework/Versions/Current/Resources/bin/R ROC.buildbin-libdir | 
| StartedAt: 2019-04-16 04:40:13 -0400 (Tue, 16 Apr 2019) | 
| EndedAt: 2019-04-16 04:40:45 -0400 (Tue, 16 Apr 2019) | 
| EllapsedTime: 32.5 seconds | 
| RetCode: 0 | 
| Status: OK | 
| PackageFile: ROC_1.58.0.tgz | 
| PackageFileSize: 201.3 KiB | 
############################################################################## ############################################################################## ### ### Running command: ### ### rm -rf ROC.buildbin-libdir && mkdir ROC.buildbin-libdir && /Users/biocbuild/BBS/utils/build-universal.sh ROC_1.58.0.tar.gz /Library/Frameworks/R.framework/Versions/Current/Resources/bin/R ROC.buildbin-libdir ### ############################################################################## ############################################################################## >>>>>>> >>>>>>> INSTALLATION WITH 'R CMD INSTALL --preclean --no-multiarch --library=ROC.buildbin-libdir ROC_1.58.0.tar.gz' >>>>>>> * installing *source* package ‘ROC’ ... ** libs clang++ -I"/Library/Frameworks/R.framework/Resources/include" -DNDEBUG -I/usr/local/include -fPIC -Wall -g -O2 -c ROC.cc -o ROC.o clang++ -dynamiclib -Wl,-headerpad_max_install_names -undefined dynamic_lookup -single_module -multiply_defined suppress -L/Library/Frameworks/R.framework/Resources/lib -L/usr/local/lib -o ROC.so ROC.o -F/Library/Frameworks/R.framework/.. -framework R -Wl,-framework -Wl,CoreFoundation installing to /Users/biocbuild/bbs-3.8-bioc/meat/ROC.buildbin-libdir/ROC/libs ** R ** inst ** byte-compile and prepare package for lazy loading ** help *** installing help indices ** building package indices ** installing vignettes ** testing if installed package can be loaded * DONE (ROC) >>>>>>> >>>>>>> FIXING LINKS FOR ROC.buildbin-libdir/ROC/libs//ROC.so >>>>>>> install_name_tool -change "/usr/local/lib/libgcc_s.1.dylib" "/Library/Frameworks/R.framework/Versions/3.5/Resources/lib/libgcc_s.1.dylib" "ROC.buildbin-libdir/ROC/libs//ROC.so" install_name_tool -change "/usr/local/lib/libgfortran.3.dylib" "/Library/Frameworks/R.framework/Versions/3.5/Resources/lib/libgfortran.3.dylib" "ROC.buildbin-libdir/ROC/libs//ROC.so" install_name_tool -change "/usr/local/lib/libreadline.5.2.dylib" "/Library/Frameworks/R.framework/Versions/3.5/Resources/lib/libreadline.5.2.dylib" "ROC.buildbin-libdir/ROC/libs//ROC.so" install_name_tool -change "/usr/local/lib/libreadline.dylib" "/Library/Frameworks/R.framework/Versions/3.5/Resources/lib/libreadline.dylib" "ROC.buildbin-libdir/ROC/libs//ROC.so" install_name_tool -change "/usr/local/lib/libquadmath.0.dylib" "/Library/Frameworks/R.framework/Versions/3.5/Resources/lib/libquadmath.0.dylib" "ROC.buildbin-libdir/ROC/libs//ROC.so"