Back to Multiple platform build/check report for BioC 3.8 |
|
This page was generated on 2019-04-13 11:23:59 -0400 (Sat, 13 Apr 2019).
Package 1303/1649 | Hostname | OS / Arch | INSTALL | BUILD | CHECK | BUILD BIN | ||||||
RGSEA 1.16.0 Chengcheng Ma
| malbec1 | Linux (Ubuntu 16.04.6 LTS) / x86_64 | OK | OK | OK | ![]() | ||||||
tokay1 | Windows Server 2012 R2 Standard / x64 | OK | OK | OK | [ OK ] | ![]() | ||||||
merida1 | OS X 10.11.6 El Capitan / x86_64 | OK | OK | OK | OK | ![]() |
Package: RGSEA |
Version: 1.16.0 |
Command: rm -rf RGSEA.buildbin-libdir && mkdir RGSEA.buildbin-libdir && C:\Users\biocbuild\bbs-3.8-bioc\R\bin\R.exe CMD INSTALL --merge-multiarch --build --library=RGSEA.buildbin-libdir RGSEA_1.16.0.tar.gz |
StartedAt: 2019-04-13 07:51:53 -0400 (Sat, 13 Apr 2019) |
EndedAt: 2019-04-13 07:51:58 -0400 (Sat, 13 Apr 2019) |
EllapsedTime: 5.2 seconds |
RetCode: 0 |
Status: OK |
PackageFile: RGSEA_1.16.0.zip |
PackageFileSize: 1.754 MiB |
############################################################################## ############################################################################## ### ### Running command: ### ### rm -rf RGSEA.buildbin-libdir && mkdir RGSEA.buildbin-libdir && C:\Users\biocbuild\bbs-3.8-bioc\R\bin\R.exe CMD INSTALL --merge-multiarch --build --library=RGSEA.buildbin-libdir RGSEA_1.16.0.tar.gz ### ############################################################################## ############################################################################## install for i386 * installing *source* package 'RGSEA' ... ** R ** data ** inst ** byte-compile and prepare package for lazy loading ** help *** installing help indices converting help for package 'RGSEA' finding HTML links ... done RGSEA-package html RGSEAfix html RGSEApredict html RGSEAsd html cmap html e1 html e2 html ** building package indices ** installing vignettes ** testing if installed package can be loaded In R CMD INSTALL install for x64 * installing *source* package 'RGSEA' ... ** testing if installed package can be loaded * MD5 sums packaged installation of 'RGSEA' as RGSEA_1.16.0.zip * DONE (RGSEA) In R CMD INSTALL In R CMD INSTALL