| Back to Multiple platform build/check report for BioC 3.8 |
|
This page was generated on 2019-04-16 11:55:18 -0400 (Tue, 16 Apr 2019).
| Package 1274/1649 | Hostname | OS / Arch | INSTALL | BUILD | CHECK | BUILD BIN | ||||||
| RDRToolbox 1.32.0 Christoph Bartenhagen
| malbec1 | Linux (Ubuntu 16.04.6 LTS) / x86_64 | OK | OK | OK | |||||||
| merida1 | OS X 10.11.6 El Capitan / x86_64 | OK | OK | WARNINGS | [ OK ] |
| Package: RDRToolbox |
| Version: 1.32.0 |
| Command: rm -rf RDRToolbox.buildbin-libdir && mkdir RDRToolbox.buildbin-libdir && /Users/biocbuild/BBS/utils/build-universal.sh RDRToolbox_1.32.0.tar.gz /Library/Frameworks/R.framework/Versions/Current/Resources/bin/R RDRToolbox.buildbin-libdir |
| StartedAt: 2019-04-16 04:37:14 -0400 (Tue, 16 Apr 2019) |
| EndedAt: 2019-04-16 04:37:47 -0400 (Tue, 16 Apr 2019) |
| EllapsedTime: 32.7 seconds |
| RetCode: 0 |
| Status: OK |
| PackageFile: RDRToolbox_1.32.0.tgz |
| PackageFileSize: 228 KiB |
############################################################################## ############################################################################## ### ### Running command: ### ### rm -rf RDRToolbox.buildbin-libdir && mkdir RDRToolbox.buildbin-libdir && /Users/biocbuild/BBS/utils/build-universal.sh RDRToolbox_1.32.0.tar.gz /Library/Frameworks/R.framework/Versions/Current/Resources/bin/R RDRToolbox.buildbin-libdir ### ############################################################################## ############################################################################## >>>>>>> >>>>>>> INSTALLATION WITH 'R CMD INSTALL --preclean --no-multiarch --library=RDRToolbox.buildbin-libdir RDRToolbox_1.32.0.tar.gz' >>>>>>> * installing *source* package ‘RDRToolbox’ ... ** R ** inst ** byte-compile and prepare package for lazy loading Warning in rgl.init(initValue, onlyNULL) : RGL: GLX extension missing on server Warning: 'rgl_init' failed, running with rgl.useNULL = TRUE ** help *** installing help indices ** building package indices ** installing vignettes ** testing if installed package can be loaded Warning in rgl.init(initValue, onlyNULL) : RGL: GLX extension missing on server Warning: 'rgl_init' failed, running with rgl.useNULL = TRUE * DONE (RDRToolbox)