| Back to Multiple platform build/check report for BioC 3.8 |
|
This page was generated on 2019-04-16 11:49:01 -0400 (Tue, 16 Apr 2019).
| Package 1240/1649 | Hostname | OS / Arch | INSTALL | BUILD | CHECK | BUILD BIN | ||||||
| R453Plus1Toolbox 1.32.0 Hans-Ulrich Klein
| malbec1 | Linux (Ubuntu 16.04.6 LTS) / x86_64 | OK | OK | [ OK ] | |||||||
| merida1 | OS X 10.11.6 El Capitan / x86_64 | OK | OK | OK | OK |
| Package: R453Plus1Toolbox |
| Version: 1.32.0 |
| Command: /home/biocbuild/bbs-3.8-bioc/R/bin/R CMD check --install=check:R453Plus1Toolbox.install-out.txt --library=/home/biocbuild/bbs-3.8-bioc/R/library --no-vignettes --timings R453Plus1Toolbox_1.32.0.tar.gz |
| StartedAt: 2019-04-16 02:21:55 -0400 (Tue, 16 Apr 2019) |
| EndedAt: 2019-04-16 02:28:16 -0400 (Tue, 16 Apr 2019) |
| EllapsedTime: 381.8 seconds |
| RetCode: 0 |
| Status: OK |
| CheckDir: R453Plus1Toolbox.Rcheck |
| Warnings: 0 |
##############################################################################
##############################################################################
###
### Running command:
###
### /home/biocbuild/bbs-3.8-bioc/R/bin/R CMD check --install=check:R453Plus1Toolbox.install-out.txt --library=/home/biocbuild/bbs-3.8-bioc/R/library --no-vignettes --timings R453Plus1Toolbox_1.32.0.tar.gz
###
##############################################################################
##############################################################################
* using log directory ‘/home/biocbuild/bbs-3.8-bioc/meat/R453Plus1Toolbox.Rcheck’
* using R version 3.5.3 (2019-03-11)
* using platform: x86_64-pc-linux-gnu (64-bit)
* using session charset: UTF-8
* using option ‘--no-vignettes’
* checking for file ‘R453Plus1Toolbox/DESCRIPTION’ ... OK
* checking extension type ... Package
* this is package ‘R453Plus1Toolbox’ version ‘1.32.0’
* checking package namespace information ... OK
* checking package dependencies ... OK
* checking if this is a source package ... OK
* checking if there is a namespace ... OK
* checking for hidden files and directories ... OK
* checking for portable file names ... OK
* checking for sufficient/correct file permissions ... OK
* checking whether package ‘R453Plus1Toolbox’ can be installed ... OK
* checking installed package size ... NOTE
installed size is 5.2Mb
sub-directories of 1Mb or more:
R 2.0Mb
extdata 2.8Mb
* checking package directory ... OK
* checking ‘build’ directory ... OK
* checking DESCRIPTION meta-information ... OK
* checking top-level files ... OK
* checking for left-over files ... OK
* checking index information ... OK
* checking package subdirectories ... OK
* checking R files for non-ASCII characters ... OK
* checking R files for syntax errors ... OK
* checking whether the package can be loaded ... OK
* checking whether the package can be loaded with stated dependencies ... OK
* checking whether the package can be unloaded cleanly ... OK
* checking whether the namespace can be loaded with stated dependencies ... OK
* checking whether the namespace can be unloaded cleanly ... OK
* checking dependencies in R code ... NOTE
'library' or 'require' call to ‘BSgenome.Hsapiens.UCSC.hg19’ in package code.
Please use :: or requireNamespace() instead.
See section 'Suggested packages' in the 'Writing R Extensions' manual.
* checking S3 generic/method consistency ... OK
* checking replacement functions ... OK
* checking foreign function calls ... OK
* checking R code for possible problems ... NOTE
.annotateVariants_MapperSet: no visible binding for global variable
‘Hsapiens’
.ava2vcf: no visible binding for global variable ‘Hsapiens’
.detectBreakpoints: no visible binding for global variable ‘Hsapiens’
.getEnsemblInfo: no visible binding for global variable ‘cds_length’
.getEnsemblInfo: no visible binding for global variable
‘ensembl_transcript_id’
.getMutations: no visible binding for global variable ‘PatternStart’
.getMutations: no visible binding for global variable ‘PatternEnd’
.htmlReport: no visible binding for global variable ‘VarFreqForward’
.htmlReport: no visible binding for global variable ‘VarFreqReverse’
.plotVariants: no visible binding for global variable ‘mutation’
qualityReportSFF: no visible binding for '<<-' assignment to ‘tmp’
annotateVariants,MapperSet-BSgenome: no visible binding for global
variable ‘Hsapiens’
annotateVariants,MapperSet-missing: no visible binding for global
variable ‘Hsapiens’
ava2vcf,AVASet: no visible binding for global variable ‘Hsapiens’
detectBreakpoints,list: no visible binding for global variable
‘Hsapiens’
subset,AVASet: no visible binding for global variable ‘referenceSeqID’
Undefined global functions or variables:
Hsapiens PatternEnd PatternStart VarFreqForward VarFreqReverse
cds_length ensembl_transcript_id mutation referenceSeqID
* checking Rd files ... OK
* checking Rd metadata ... OK
* checking Rd cross-references ... OK
* checking for missing documentation entries ... OK
* checking for code/documentation mismatches ... OK
* checking Rd \usage sections ... OK
* checking Rd contents ... OK
* checking for unstated dependencies in examples ... OK
* checking contents of ‘data’ directory ... OK
* checking data for non-ASCII characters ... OK
* checking data for ASCII and uncompressed saves ... OK
* checking line endings in C/C++/Fortran sources/headers ... OK
* checking compiled code ... NOTE
Note: information on .o files is not available
* checking files in ‘vignettes’ ... OK
* checking examples ... OK
Examples with CPU or elapsed time > 5s
user system elapsed
mergeBreakpoints 6.608 0.096 7.19
* checking for unstated dependencies in vignettes ... OK
* checking package vignettes in ‘inst/doc’ ... OK
* checking running R code from vignettes ... SKIPPED
* checking re-building of vignette outputs ... SKIPPED
* checking PDF version of manual ... OK
* DONE
Status: 4 NOTEs
See
‘/home/biocbuild/bbs-3.8-bioc/meat/R453Plus1Toolbox.Rcheck/00check.log’
for details.
R453Plus1Toolbox.Rcheck/00install.out
############################################################################## ############################################################################## ### ### Running command: ### ### /home/biocbuild/bbs-3.8-bioc/R/bin/R CMD INSTALL R453Plus1Toolbox ### ############################################################################## ############################################################################## * installing to library ‘/home/biocbuild/bbs-3.8-bioc/R/library’ * installing *source* package ‘R453Plus1Toolbox’ ... ** libs gcc -I"/home/biocbuild/bbs-3.8-bioc/R/include" -DNDEBUG -I/usr/local/include -fpic -g -O2 -Wall -c readSFF.c -o readSFF.o readSFF.c: In function ‘readSFF’: readSFF.c:46:3: warning: ignoring return value of ‘fread’, declared with attribute warn_unused_result [-Wunused-result] fread(buffer, fileLen, 1, file); ^ gcc -I"/home/biocbuild/bbs-3.8-bioc/R/include" -DNDEBUG -I/usr/local/include -fpic -g -O2 -Wall -c writeSFF.c -o writeSFF.o gcc -shared -L/home/biocbuild/bbs-3.8-bioc/R/lib -L/usr/local/lib -o R453Plus1Toolbox.so readSFF.o writeSFF.o -L/home/biocbuild/bbs-3.8-bioc/R/lib -lR installing to /home/biocbuild/bbs-3.8-bioc/R/library/R453Plus1Toolbox/libs ** R ** data ** inst ** byte-compile and prepare package for lazy loading ** help *** installing help indices ** building package indices ** installing vignettes ** testing if installed package can be loaded * DONE (R453Plus1Toolbox)
R453Plus1Toolbox.Rcheck/R453Plus1Toolbox-Ex.timings
| name | user | system | elapsed | |
| AVASet-class | 0.276 | 0.004 | 0.360 | |
| AVASet | 0.196 | 0.008 | 0.203 | |
| AnnotatedVariants-class | 0.000 | 0.000 | 0.001 | |
| MapperSet-class | 0.024 | 0.012 | 0.035 | |
| MapperSet | 0.008 | 0.000 | 0.008 | |
| SFFContainer-class | 0.004 | 0.000 | 0.001 | |
| SFFRead-class | 0.000 | 0.000 | 0.001 | |
| alignShortReads | 1.972 | 0.008 | 2.293 | |
| annotateVariants | 0.004 | 0.000 | 0.002 | |
| assayDataAmp | 0.008 | 0.000 | 0.008 | |
| ava2vcf | 0.252 | 0.004 | 0.262 | |
| avaSetExample | 0.016 | 0.000 | 0.016 | |
| avaSetFiltered | 0.024 | 0.000 | 0.042 | |
| avaSetFiltered_annot | 0.004 | 0.000 | 0.002 | |
| breakpoints | 0.004 | 0.000 | 0.005 | |
| calculateTiTv | 0.008 | 0.000 | 0.008 | |
| captureArray | 0.000 | 0.000 | 0.002 | |
| coverageOnTarget | 0.196 | 0.016 | 0.264 | |
| demultiplexReads | 0.080 | 0.024 | 0.105 | |
| detectBreakpoints | 0.876 | 0.052 | 0.957 | |
| fDataAmp | 0.020 | 0.000 | 0.022 | |
| featureDataAmp | 0.02 | 0.00 | 0.02 | |
| filterChimericReads | 3.496 | 0.000 | 3.580 | |
| genomeSequencerMIDs | 0.024 | 0.000 | 0.023 | |
| getAlignedReads | 0.092 | 0.000 | 0.102 | |
| getVariantPercentages | 0.04 | 0.00 | 0.04 | |
| htmlReport | 3.280 | 0.068 | 3.672 | |
| mapperSetExample | 0.004 | 0.000 | 0.007 | |
| mergeBreakpoints | 6.608 | 0.096 | 7.190 | |
| mutationInfo | 0.000 | 0.000 | 0.003 | |
| plotAmpliconCoverage | 0 | 0 | 0 | |
| plotChimericReads | 2.672 | 0.000 | 2.884 | |
| plotVariants | 0.004 | 0.000 | 0.004 | |
| plotVariationFrequency | 0.000 | 0.000 | 0.001 | |
| qualityReportSFF | 0 | 0 | 0 | |
| readSFF | 0.112 | 0.004 | 0.136 | |
| readsOnTarget | 0.080 | 0.004 | 0.086 | |
| referenceSequences | 0.012 | 0.000 | 0.011 | |
| regions | 0.004 | 0.000 | 0.003 | |
| removeLinker | 0.032 | 0.000 | 0.031 | |
| sequenceCaptureLinkers | 0.008 | 0.000 | 0.007 | |
| setVariantFilter | 0.068 | 0.000 | 0.116 | |
| variants | 0.000 | 0.004 | 0.010 | |
| writeSFF | 0.032 | 0.004 | 0.039 | |