| Back to Multiple platform build/check report for BioC 3.8 |
|
This page was generated on 2019-04-16 11:58:11 -0400 (Tue, 16 Apr 2019).
| Package 1232/1649 | Hostname | OS / Arch | INSTALL | BUILD | CHECK | BUILD BIN | ||||||
| QuartPAC 1.14.0 Gregory Ryslik
| malbec1 | Linux (Ubuntu 16.04.6 LTS) / x86_64 | OK | OK | OK | |||||||
| merida1 | OS X 10.11.6 El Capitan / x86_64 | OK | OK | OK | [ OK ] |
| Package: QuartPAC |
| Version: 1.14.0 |
| Command: rm -rf QuartPAC.buildbin-libdir && mkdir QuartPAC.buildbin-libdir && /Users/biocbuild/BBS/utils/build-universal.sh QuartPAC_1.14.0.tar.gz /Library/Frameworks/R.framework/Versions/Current/Resources/bin/R QuartPAC.buildbin-libdir |
| StartedAt: 2019-04-16 04:35:20 -0400 (Tue, 16 Apr 2019) |
| EndedAt: 2019-04-16 04:36:02 -0400 (Tue, 16 Apr 2019) |
| EllapsedTime: 41.8 seconds |
| RetCode: 0 |
| Status: OK |
| PackageFile: QuartPAC_1.14.0.tgz |
| PackageFileSize: 508.4 KiB |
############################################################################## ############################################################################## ### ### Running command: ### ### rm -rf QuartPAC.buildbin-libdir && mkdir QuartPAC.buildbin-libdir && /Users/biocbuild/BBS/utils/build-universal.sh QuartPAC_1.14.0.tar.gz /Library/Frameworks/R.framework/Versions/Current/Resources/bin/R QuartPAC.buildbin-libdir ### ############################################################################## ############################################################################## >>>>>>> >>>>>>> INSTALLATION WITH 'R CMD INSTALL --preclean --no-multiarch --library=QuartPAC.buildbin-libdir QuartPAC_1.14.0.tar.gz' >>>>>>> * installing *source* package ‘QuartPAC’ ... ** R ** inst ** byte-compile and prepare package for lazy loading ** help *** installing help indices ** building package indices ** installing vignettes ** testing if installed package can be loaded * DONE (QuartPAC)