| Back to Multiple platform build/check report for BioC 3.8 | 
 | 
This page was generated on 2019-04-16 11:51:06 -0400 (Tue, 16 Apr 2019).
| Package 1209/1649 | Hostname | OS / Arch | INSTALL | BUILD | CHECK | BUILD BIN | ||||||
| ProtGenerics 1.14.0 Laurent Gatto 
 | malbec1 | Linux (Ubuntu 16.04.6 LTS) / x86_64 | [ OK ] | OK | OK |  | ||||||
| merida1 | OS X 10.11.6 El Capitan / x86_64 | OK | OK | OK | OK |  | 
| Package: ProtGenerics | 
| Version: 1.14.0 | 
| Command: /home/biocbuild/bbs-3.8-bioc/R/bin/R CMD INSTALL ProtGenerics | 
| StartedAt: 2019-04-15 17:57:52 -0400 (Mon, 15 Apr 2019) | 
| EndedAt: 2019-04-15 17:57:55 -0400 (Mon, 15 Apr 2019) | 
| EllapsedTime: 3.0 seconds | 
| RetCode: 0 | 
| Status: OK | 
############################################################################## ############################################################################## ### ### Running command: ### ### /home/biocbuild/bbs-3.8-bioc/R/bin/R CMD INSTALL ProtGenerics ### ############################################################################## ############################################################################## * installing to library ‘/home/biocbuild/bbs-3.8-bioc/R/library’ * installing *source* package ‘ProtGenerics’ ... ** R ** byte-compile and prepare package for lazy loading ** help *** installing help indices ** building package indices ** testing if installed package can be loaded * DONE (ProtGenerics)