Back to Multiple platform build/check report for BioC 3.8 |
|
This page was generated on 2019-04-13 11:25:39 -0400 (Sat, 13 Apr 2019).
Package 1190/1649 | Hostname | OS / Arch | INSTALL | BUILD | CHECK | BUILD BIN | ||||||
Prize 1.12.1 Daryanaz Dargahi
| malbec1 | Linux (Ubuntu 16.04.6 LTS) / x86_64 | OK | OK | OK | ![]() | ||||||
tokay1 | Windows Server 2012 R2 Standard / x64 | [ OK ] | OK | OK | OK | ![]() | ||||||
merida1 | OS X 10.11.6 El Capitan / x86_64 | OK | OK | OK | OK | ![]() |
Package: Prize |
Version: 1.12.1 |
Command: C:\cygwin\bin\curl.exe -O https://malbec1.bioconductor.org/BBS/3.8/bioc/src/contrib/Prize_1.12.1.tar.gz && rm -rf Prize.buildbin-libdir && mkdir Prize.buildbin-libdir && C:\Users\biocbuild\bbs-3.8-bioc\R\bin\R.exe CMD INSTALL --merge-multiarch --build --library=Prize.buildbin-libdir Prize_1.12.1.tar.gz && C:\Users\biocbuild\bbs-3.8-bioc\R\bin\R.exe CMD INSTALL Prize_1.12.1.zip && rm Prize_1.12.1.tar.gz Prize_1.12.1.zip |
StartedAt: 2019-04-12 18:59:17 -0400 (Fri, 12 Apr 2019) |
EndedAt: 2019-04-12 19:00:12 -0400 (Fri, 12 Apr 2019) |
EllapsedTime: 55.7 seconds |
RetCode: 0 |
Status: OK |
############################################################################## ############################################################################## ### ### Running command: ### ### C:\cygwin\bin\curl.exe -O https://malbec1.bioconductor.org/BBS/3.8/bioc/src/contrib/Prize_1.12.1.tar.gz && rm -rf Prize.buildbin-libdir && mkdir Prize.buildbin-libdir && C:\Users\biocbuild\bbs-3.8-bioc\R\bin\R.exe CMD INSTALL --merge-multiarch --build --library=Prize.buildbin-libdir Prize_1.12.1.tar.gz && C:\Users\biocbuild\bbs-3.8-bioc\R\bin\R.exe CMD INSTALL Prize_1.12.1.zip && rm Prize_1.12.1.tar.gz Prize_1.12.1.zip ### ############################################################################## ############################################################################## % Total % Received % Xferd Average Speed Time Time Time Current Dload Upload Total Spent Left Speed 0 0 0 0 0 0 0 0 --:--:-- --:--:-- --:--:-- 0 100 35870 100 35870 0 0 1040k 0 --:--:-- --:--:-- --:--:-- 1167k install for i386 * installing *source* package 'Prize' ... ** R ** inst ** byte-compile and prepare package for lazy loading ** help *** installing help indices converting help for package 'Prize' finding HTML links ... done AIJ html AIP html CI html GCR html ICR html IP html Prize-package html RM html aggreg.judgement-data html ahmatrix html ahmatrixObj-class html ahp html ahpObj-class html ahp_matrix html ahp_plot html ahp_weights html ahplot html ariAggreg-class html crplot html dplot html epitope.PCM-data html epitopeLength.PCM-data html epitopeNum.PCM-data html epitope_num_rating-data html epitope_size_rating-data html freq.PCM-data html freq_exp_rating-data html gaggregate html genes.list-data html geoAggreg-class html ind1-data html ind2-data html ind3-data html ind4-data html normal.PCM-data html normal_exp_rating-data html numEpitope_alternative_category-data html number-data html pipeline html pipelineObj-class html rainbow_plot html rainbowplot html rating html ratingObj-class html saaty_inconsistency html simulation html tumor.PCM-data html tumor_exp_rating-data html weight html weight_plot html wplot html ** building package indices ** installing vignettes ** testing if installed package can be loaded In R CMD INSTALL install for x64 * installing *source* package 'Prize' ... ** testing if installed package can be loaded * MD5 sums packaged installation of 'Prize' as Prize_1.12.1.zip * DONE (Prize) In R CMD INSTALL In R CMD INSTALL * installing to library 'C:/Users/biocbuild/bbs-3.8-bioc/R/library' package 'Prize' successfully unpacked and MD5 sums checked In R CMD INSTALL