| Back to Multiple platform build/check report for BioC 3.8 |
|
This page was generated on 2019-04-16 11:50:20 -0400 (Tue, 16 Apr 2019).
| Package 1152/1649 | Hostname | OS / Arch | INSTALL | BUILD | CHECK | BUILD BIN | ||||||
| PhenStat 2.18.1 Hamed Haselimashhadi
| malbec1 | Linux (Ubuntu 16.04.6 LTS) / x86_64 | OK | [ OK ] | OK | |||||||
| merida1 | OS X 10.11.6 El Capitan / x86_64 | OK | OK | OK | OK |
| Package: PhenStat |
| Version: 2.18.1 |
| Command: /home/biocbuild/bbs-3.8-bioc/R/bin/R CMD build --keep-empty-dirs --no-resave-data PhenStat |
| StartedAt: 2019-04-15 19:39:12 -0400 (Mon, 15 Apr 2019) |
| EndedAt: 2019-04-15 19:39:38 -0400 (Mon, 15 Apr 2019) |
| EllapsedTime: 25.8 seconds |
| RetCode: 0 |
| Status: OK |
| PackageFile: PhenStat_2.18.1.tar.gz |
| PackageFileSize: 2.131 MiB |
##############################################################################
##############################################################################
###
### Running command:
###
### /home/biocbuild/bbs-3.8-bioc/R/bin/R CMD build --keep-empty-dirs --no-resave-data PhenStat
###
##############################################################################
##############################################################################
* checking for file ‘PhenStat/DESCRIPTION’ ... OK
* preparing ‘PhenStat’:
* checking DESCRIPTION meta-information ... OK
* installing the package to build vignettes
* creating vignettes ... OK
Warning: ‘inst/doc’ files
‘PhenStat.Rnw’, ‘PhenStat.pdf’, ‘PhenStat.R’
ignored as vignettes have been rebuilt.
Run R CMD build with --no-build-vignettes to prevent rebuilding.
* checking for LF line-endings in source and make files and shell scripts
* checking for empty or unneeded directories
* building ‘PhenStat_2.18.1.tar.gz’