| Back to Multiple platform build/check report for BioC 3.8 | 
 | 
This page was generated on 2019-04-16 12:00:38 -0400 (Tue, 16 Apr 2019).
| Package 1181/1649 | Hostname | OS / Arch | INSTALL | BUILD | CHECK | BUILD BIN | ||||||
| PPInfer 1.8.1 Dongmin Jung 
 | malbec1 | Linux (Ubuntu 16.04.6 LTS) / x86_64 | OK | OK | OK |  | ||||||
| merida1 | OS X 10.11.6 El Capitan / x86_64 | OK | [ OK ] | OK | OK |  | 
| Package: PPInfer | 
| Version: 1.8.1 | 
| Command: /Library/Frameworks/R.framework/Versions/Current/Resources/bin/R CMD build --keep-empty-dirs --no-resave-data PPInfer | 
| StartedAt: 2019-04-15 21:21:33 -0400 (Mon, 15 Apr 2019) | 
| EndedAt: 2019-04-15 21:22:29 -0400 (Mon, 15 Apr 2019) | 
| EllapsedTime: 55.6 seconds | 
| RetCode: 0 | 
| Status: OK | 
| PackageFile: PPInfer_1.8.1.tar.gz | 
| PackageFileSize: 243.7 KiB | 
##############################################################################
##############################################################################
###
### Running command:
###
###   /Library/Frameworks/R.framework/Versions/Current/Resources/bin/R CMD build --keep-empty-dirs --no-resave-data PPInfer
###
##############################################################################
##############################################################################
* checking for file ‘PPInfer/DESCRIPTION’ ... OK
* preparing ‘PPInfer’:
* checking DESCRIPTION meta-information ... OK
* installing the package to process help pages
* saving partial Rd database
* creating vignettes ... OK
Warning: ‘inst/doc’ file
    ‘PPInfer.pdf’
  ignored as vignettes have been rebuilt.
  Run R CMD build with --no-build-vignettes to prevent rebuilding.
* checking for LF line-endings in source and make files and shell scripts
* checking for empty or unneeded directories
* building ‘PPInfer_1.8.1.tar.gz’