Back to Multiple platform build/check report for BioC 3.8 |
|
This page was generated on 2019-04-16 11:56:04 -0400 (Tue, 16 Apr 2019).
Package 1115/1649 | Hostname | OS / Arch | INSTALL | BUILD | CHECK | BUILD BIN | ||||||
PANR 1.28.1 Xin Wang
| malbec1 | Linux (Ubuntu 16.04.6 LTS) / x86_64 | OK | OK | OK | ![]() | ||||||
merida1 | OS X 10.11.6 El Capitan / x86_64 | OK | OK | OK | [ OK ] | ![]() |
Package: PANR |
Version: 1.28.1 |
Command: rm -rf PANR.buildbin-libdir && mkdir PANR.buildbin-libdir && /Users/biocbuild/BBS/utils/build-universal.sh PANR_1.28.1.tar.gz /Library/Frameworks/R.framework/Versions/Current/Resources/bin/R PANR.buildbin-libdir |
StartedAt: 2019-04-16 04:30:01 -0400 (Tue, 16 Apr 2019) |
EndedAt: 2019-04-16 04:30:33 -0400 (Tue, 16 Apr 2019) |
EllapsedTime: 32.7 seconds |
RetCode: 0 |
Status: OK |
PackageFile: PANR_1.28.1.tgz |
PackageFileSize: 1.985 MiB |
############################################################################## ############################################################################## ### ### Running command: ### ### rm -rf PANR.buildbin-libdir && mkdir PANR.buildbin-libdir && /Users/biocbuild/BBS/utils/build-universal.sh PANR_1.28.1.tar.gz /Library/Frameworks/R.framework/Versions/Current/Resources/bin/R PANR.buildbin-libdir ### ############################################################################## ############################################################################## >>>>>>> >>>>>>> INSTALLATION WITH 'R CMD INSTALL --preclean --no-multiarch --library=PANR.buildbin-libdir PANR_1.28.1.tar.gz' >>>>>>> * installing *source* package ‘PANR’ ... ** R ** data ** inst ** byte-compile and prepare package for lazy loading ** help *** installing help indices ** building package indices ** installing vignettes ** testing if installed package can be loaded * DONE (PANR)