| Back to Multiple platform build/check report for BioC 3.8 | 
  | 
This page was generated on 2019-04-13 11:26:30 -0400 (Sat, 13 Apr 2019).
| Package 1089/1649 | Hostname | OS / Arch | INSTALL | BUILD | CHECK | BUILD BIN | ||||||
| OncoScore 1.10.0 Luca De Sano 
  | malbec1 | Linux (Ubuntu 16.04.6 LTS) / x86_64 | OK | OK | OK | |||||||
| tokay1 | Windows Server 2012 R2 Standard / x64 | OK | OK | OK | [ OK ] | |||||||
| merida1 | OS X 10.11.6 El Capitan / x86_64 | OK | OK | OK | OK | 
| Package: OncoScore | 
| Version: 1.10.0 | 
| Command: rm -rf OncoScore.buildbin-libdir && mkdir OncoScore.buildbin-libdir && C:\Users\biocbuild\bbs-3.8-bioc\R\bin\R.exe CMD INSTALL --merge-multiarch --build --library=OncoScore.buildbin-libdir OncoScore_1.10.0.tar.gz | 
| StartedAt: 2019-04-13 07:43:44 -0400 (Sat, 13 Apr 2019) | 
| EndedAt: 2019-04-13 07:44:08 -0400 (Sat, 13 Apr 2019) | 
| EllapsedTime: 23.3 seconds | 
| RetCode: 0 | 
| Status: OK | 
| PackageFile: OncoScore_1.10.0.zip | 
| PackageFileSize: 271.1 KiB | 
##############################################################################
##############################################################################
###
### Running command:
###
###   rm -rf OncoScore.buildbin-libdir && mkdir OncoScore.buildbin-libdir && C:\Users\biocbuild\bbs-3.8-bioc\R\bin\R.exe CMD INSTALL --merge-multiarch --build --library=OncoScore.buildbin-libdir OncoScore_1.10.0.tar.gz
###
##############################################################################
##############################################################################
install for i386
* installing *source* package 'OncoScore' ...
** R
** data
*** moving datasets to lazyload DB
** inst
** byte-compile and prepare package for lazy loading
** help
*** installing help indices
  converting help for package 'OncoScore'
    finding HTML links ... done
    combine.query.results                   html  
    combine.single.matrix                   html  
    compute.frequencies.scores              html  
    compute.oncoscore                       html  
    compute.oncoscore.from.region           html  
    compute.oncoscore.timeseries            html  
    estimate.oncogenes                      html  
    genes                                   html  
    get.genes.from.biomart                  html  
    get.list.from.xml                       html  
    get.pubmed.driver.analysis              html  
    perform.query                           html  
    perform.query.from.region               html  
    perform.query.timeseries                html  
    plot.oncoscore                          html  
    plot.oncoscore.timeseries               html  
    query                                   html  
    query.timepoints                        html  
    timepoints                              html  
    try.scan                                html  
** building package indices
** installing vignettes
** testing if installed package can be loaded
In R CMD INSTALL
install for x64
* installing *source* package 'OncoScore' ...
** testing if installed package can be loaded
* MD5 sums
packaged installation of 'OncoScore' as OncoScore_1.10.0.zip
* DONE (OncoScore)
In R CMD INSTALL
In R CMD INSTALL