| Back to Multiple platform build/check report for BioC 3.8 |
|
This page was generated on 2019-04-16 11:58:33 -0400 (Tue, 16 Apr 2019).
| Package 1038/1649 | Hostname | OS / Arch | INSTALL | BUILD | CHECK | BUILD BIN | ||||||
| NanoStringQCPro 1.14.0 Robert Ziman
| malbec1 | Linux (Ubuntu 16.04.6 LTS) / x86_64 | OK | OK | OK | |||||||
| merida1 | OS X 10.11.6 El Capitan / x86_64 | OK | OK | [ OK ] | OK |
| Package: NanoStringQCPro |
| Version: 1.14.0 |
| Command: /Library/Frameworks/R.framework/Versions/Current/Resources/bin/R CMD check --install=check:NanoStringQCPro.install-out.txt --library=/Library/Frameworks/R.framework/Versions/Current/Resources/library --no-vignettes --timings NanoStringQCPro_1.14.0.tar.gz |
| StartedAt: 2019-04-16 01:32:52 -0400 (Tue, 16 Apr 2019) |
| EndedAt: 2019-04-16 01:35:10 -0400 (Tue, 16 Apr 2019) |
| EllapsedTime: 138.8 seconds |
| RetCode: 0 |
| Status: OK |
| CheckDir: NanoStringQCPro.Rcheck |
| Warnings: 0 |
##############################################################################
##############################################################################
###
### Running command:
###
### /Library/Frameworks/R.framework/Versions/Current/Resources/bin/R CMD check --install=check:NanoStringQCPro.install-out.txt --library=/Library/Frameworks/R.framework/Versions/Current/Resources/library --no-vignettes --timings NanoStringQCPro_1.14.0.tar.gz
###
##############################################################################
##############################################################################
* using log directory ‘/Users/biocbuild/bbs-3.8-bioc/meat/NanoStringQCPro.Rcheck’
* using R version 3.5.3 (2019-03-11)
* using platform: x86_64-apple-darwin15.6.0 (64-bit)
* using session charset: UTF-8
* using option ‘--no-vignettes’
* checking for file ‘NanoStringQCPro/DESCRIPTION’ ... OK
* this is package ‘NanoStringQCPro’ version ‘1.14.0’
* checking package namespace information ... OK
* checking package dependencies ... OK
* checking if this is a source package ... OK
* checking if there is a namespace ... OK
* checking for hidden files and directories ... OK
* checking for portable file names ... OK
* checking for sufficient/correct file permissions ... OK
* checking whether package ‘NanoStringQCPro’ can be installed ... OK
* checking installed package size ... OK
* checking package directory ... OK
* checking DESCRIPTION meta-information ... NOTE
Package listed in more than one of Depends, Imports, Suggests, Enhances:
‘knitr’
A package should be listed in only one of these fields.
* checking top-level files ... OK
* checking for left-over files ... OK
* checking index information ... OK
* checking package subdirectories ... OK
* checking R files for non-ASCII characters ... OK
* checking R files for syntax errors ... OK
* checking whether the package can be loaded ... OK
* checking whether the package can be loaded with stated dependencies ... OK
* checking whether the package can be unloaded cleanly ... OK
* checking whether the namespace can be loaded with stated dependencies ... OK
* checking whether the namespace can be unloaded cleanly ... OK
* checking dependencies in R code ... OK
* checking S3 generic/method consistency ... OK
* checking replacement functions ... OK
* checking foreign function calls ... OK
* checking R code for possible problems ... NOTE
centeredSampleClustering: no visible global function definition for
‘png’
centeredSampleClustering: no visible global function definition for
‘dev.off’
countsInBlankSamples_verticalPlot: no visible global function
definition for ‘png’
countsInBlankSamples_verticalPlot: no visible global function
definition for ‘dev.off’
geneClustering: no visible global function definition for ‘png’
geneClustering: no visible global function definition for ‘dev.off’
negCtrlsByLane_verticalPlot: no visible global function definition for
‘png’
negCtrlsByLane_verticalPlot: no visible global function definition for
‘dev.off’
previewPNG: no visible global function definition for ‘png’
previewPNG: no visible global function definition for ‘dev.off’
sampleClustering,RccSet: no visible global function definition for
‘png’
sampleClustering,RccSet: no visible global function definition for
‘dev.off’
Undefined global functions or variables:
dev.off png
Consider adding
importFrom("grDevices", "dev.off", "png")
to your NAMESPACE file.
* checking Rd files ... OK
* checking Rd metadata ... OK
* checking Rd cross-references ... OK
* checking for missing documentation entries ... OK
* checking for code/documentation mismatches ... OK
* checking Rd \usage sections ... OK
* checking Rd contents ... OK
* checking for unstated dependencies in examples ... OK
* checking contents of ‘data’ directory ... OK
* checking data for non-ASCII characters ... OK
* checking data for ASCII and uncompressed saves ... OK
* checking sizes of PDF files under ‘inst/doc’ ... OK
* checking installed files from ‘inst/doc’ ... OK
* checking examples ... OK
Examples with CPU or elapsed time > 5s
user system elapsed
makeQCReport 17.968 2.561 18.722
* checking PDF version of manual ... OK
* DONE
Status: 2 NOTEs
See
‘/Users/biocbuild/bbs-3.8-bioc/meat/NanoStringQCPro.Rcheck/00check.log’
for details.
NanoStringQCPro.Rcheck/00install.out
############################################################################## ############################################################################## ### ### Running command: ### ### /Library/Frameworks/R.framework/Versions/Current/Resources/bin/R CMD INSTALL NanoStringQCPro ### ############################################################################## ############################################################################## * installing to library ‘/Library/Frameworks/R.framework/Versions/3.5/Resources/library’ * installing *source* package ‘NanoStringQCPro’ ... ** R ** data *** moving datasets to lazyload DB ** inst ** byte-compile and prepare package for lazy loading ** help *** installing help indices ** building package indices ** testing if installed package can be loaded * DONE (NanoStringQCPro)
NanoStringQCPro.Rcheck/NanoStringQCPro-Ex.timings
| name | user | system | elapsed | |
| RccSet-class | 0.585 | 0.005 | 0.601 | |
| addCodesetAnnotation | 0.294 | 0.005 | 0.307 | |
| buildCodesetAnnotation | 0.011 | 0.001 | 0.012 | |
| checkRccSet | 0.067 | 0.001 | 0.068 | |
| contentNorm | 0.154 | 0.001 | 0.158 | |
| copyRccSet | 0.020 | 0.001 | 0.022 | |
| getBackground | 0.092 | 0.002 | 0.096 | |
| getBlankLabel | 0.003 | 0.002 | 0.004 | |
| makeQCReport | 17.968 | 2.561 | 18.722 | |
| newRccSet | 0.362 | 0.004 | 0.369 | |
| posCtrlNorm | 0.026 | 0.001 | 0.027 | |
| preprocRccSet | 0.189 | 0.002 | 0.197 | |
| presAbsCall | 0.058 | 0.001 | 0.059 | |
| readCdrDesignData | 0.004 | 0.000 | 0.004 | |
| readRcc | 0.005 | 0.000 | 0.004 | |
| readRlf | 0.006 | 0.000 | 0.007 | |
| subtractBackground | 0.083 | 0.002 | 0.089 | |