| Back to Multiple platform build/check report for BioC 3.8 |
|
This page was generated on 2019-04-16 11:50:47 -0400 (Tue, 16 Apr 2019).
| Package 1056/1649 | Hostname | OS / Arch | INSTALL | BUILD | CHECK | BUILD BIN | ||||||
| NGScopy 1.16.1 Xiaobei Zhao
| malbec1 | Linux (Ubuntu 16.04.6 LTS) / x86_64 | ERROR | [ ERROR ] | skipped | |||||||
| merida1 | OS X 10.11.6 El Capitan / x86_64 | ERROR | ERROR | skipped | skipped |
| Package: NGScopy |
| Version: 1.16.1 |
| Command: /home/biocbuild/bbs-3.8-bioc/R/bin/R CMD build --keep-empty-dirs --no-resave-data NGScopy |
| StartedAt: 2019-04-15 19:52:15 -0400 (Mon, 15 Apr 2019) |
| EndedAt: 2019-04-15 19:52:16 -0400 (Mon, 15 Apr 2019) |
| EllapsedTime: 1.3 seconds |
| RetCode: 1 |
| Status: ERROR |
| PackageFile: None |
| PackageFileSize: NA |
##############################################################################
##############################################################################
###
### Running command:
###
### /home/biocbuild/bbs-3.8-bioc/R/bin/R CMD build --keep-empty-dirs --no-resave-data NGScopy
###
##############################################################################
##############################################################################
* checking for file ‘NGScopy/DESCRIPTION’ ... OK
* preparing ‘NGScopy’:
* checking DESCRIPTION meta-information ... OK
* installing the package to build vignettes
-----------------------------------
ERROR: dependency ‘rbamtools’ is not available for package ‘NGScopy’
* removing ‘/tmp/RtmpCOC2xk/Rinst18156124917/NGScopy’
-----------------------------------
ERROR: package installation failed