| Back to Multiple platform build/check report for BioC 3.8 |
|
This page was generated on 2019-04-16 11:52:24 -0400 (Tue, 16 Apr 2019).
| Package 1029/1649 | Hostname | OS / Arch | INSTALL | BUILD | CHECK | BUILD BIN | ||||||
| MutationalPatterns 1.8.0 Roel Janssen
| malbec1 | Linux (Ubuntu 16.04.6 LTS) / x86_64 | OK | OK | [ OK ] | |||||||
| merida1 | OS X 10.11.6 El Capitan / x86_64 | OK | OK | OK | OK |
| Package: MutationalPatterns |
| Version: 1.8.0 |
| Command: /home/biocbuild/bbs-3.8-bioc/R/bin/R CMD check --install=check:MutationalPatterns.install-out.txt --library=/home/biocbuild/bbs-3.8-bioc/R/library --no-vignettes --timings MutationalPatterns_1.8.0.tar.gz |
| StartedAt: 2019-04-16 01:41:38 -0400 (Tue, 16 Apr 2019) |
| EndedAt: 2019-04-16 01:48:01 -0400 (Tue, 16 Apr 2019) |
| EllapsedTime: 383.1 seconds |
| RetCode: 0 |
| Status: OK |
| CheckDir: MutationalPatterns.Rcheck |
| Warnings: 0 |
##############################################################################
##############################################################################
###
### Running command:
###
### /home/biocbuild/bbs-3.8-bioc/R/bin/R CMD check --install=check:MutationalPatterns.install-out.txt --library=/home/biocbuild/bbs-3.8-bioc/R/library --no-vignettes --timings MutationalPatterns_1.8.0.tar.gz
###
##############################################################################
##############################################################################
* using log directory ‘/home/biocbuild/bbs-3.8-bioc/meat/MutationalPatterns.Rcheck’
* using R version 3.5.3 (2019-03-11)
* using platform: x86_64-pc-linux-gnu (64-bit)
* using session charset: UTF-8
* using option ‘--no-vignettes’
* checking for file ‘MutationalPatterns/DESCRIPTION’ ... OK
* checking extension type ... Package
* this is package ‘MutationalPatterns’ version ‘1.8.0’
* package encoding: UTF-8
* checking package namespace information ... OK
* checking package dependencies ... OK
* checking if this is a source package ... OK
* checking if there is a namespace ... OK
* checking for hidden files and directories ... OK
* checking for portable file names ... OK
* checking for sufficient/correct file permissions ... OK
* checking whether package ‘MutationalPatterns’ can be installed ... OK
* checking installed package size ... OK
* checking package directory ... OK
* checking ‘build’ directory ... OK
* checking DESCRIPTION meta-information ... OK
* checking top-level files ... OK
* checking for left-over files ... OK
* checking index information ... OK
* checking package subdirectories ... OK
* checking R files for non-ASCII characters ... OK
* checking R files for syntax errors ... OK
* checking whether the package can be loaded ... OK
* checking whether the package can be loaded with stated dependencies ... OK
* checking whether the package can be unloaded cleanly ... OK
* checking whether the namespace can be loaded with stated dependencies ... OK
* checking whether the namespace can be unloaded cleanly ... OK
* checking dependencies in R code ... OK
* checking S3 generic/method consistency ... OK
* checking replacement functions ... OK
* checking foreign function calls ... OK
* checking R code for possible problems ... OK
* checking Rd files ... OK
* checking Rd metadata ... OK
* checking Rd cross-references ... OK
* checking for missing documentation entries ... OK
* checking for code/documentation mismatches ... OK
* checking Rd \usage sections ... OK
* checking Rd contents ... OK
* checking for unstated dependencies in examples ... OK
* checking files in ‘vignettes’ ... OK
* checking examples ... OK
Examples with CPU or elapsed time > 5s
user system elapsed
read_vcfs_as_granges 18.460 3.448 4.332
mut_matrix_stranded 15.844 5.324 3.976
genomic_distribution 17.560 0.192 17.843
plot_spectrum 9.064 0.108 9.184
mut_matrix 6.052 2.132 1.743
mut_type_occurrences 6.144 0.176 6.328
* checking for unstated dependencies in ‘tests’ ... OK
* checking tests ...
Running ‘testthat.R’
OK
* checking for unstated dependencies in vignettes ... OK
* checking package vignettes in ‘inst/doc’ ... OK
* checking running R code from vignettes ... SKIPPED
* checking re-building of vignette outputs ... SKIPPED
* checking PDF version of manual ... OK
* DONE
Status: OK
MutationalPatterns.Rcheck/00install.out
############################################################################## ############################################################################## ### ### Running command: ### ### /home/biocbuild/bbs-3.8-bioc/R/bin/R CMD INSTALL MutationalPatterns ### ############################################################################## ############################################################################## * installing to library ‘/home/biocbuild/bbs-3.8-bioc/R/library’ * installing *source* package ‘MutationalPatterns’ ... ** R ** inst ** byte-compile and prepare package for lazy loading ** help *** installing help indices ** building package indices ** installing vignettes ** testing if installed package can be loaded * DONE (MutationalPatterns)
MutationalPatterns.Rcheck/tests/testthat.Rout
R version 3.5.3 (2019-03-11) -- "Great Truth"
Copyright (C) 2019 The R Foundation for Statistical Computing
Platform: x86_64-pc-linux-gnu (64-bit)
R is free software and comes with ABSOLUTELY NO WARRANTY.
You are welcome to redistribute it under certain conditions.
Type 'license()' or 'licence()' for distribution details.
R is a collaborative project with many contributors.
Type 'contributors()' for more information and
'citation()' on how to cite R or R packages in publications.
Type 'demo()' for some demos, 'help()' for on-line help, or
'help.start()' for an HTML browser interface to help.
Type 'q()' to quit R.
> library(testthat)
> library(MutationalPatterns)
Loading required package: GenomicRanges
Loading required package: stats4
Loading required package: BiocGenerics
Loading required package: parallel
Attaching package: 'BiocGenerics'
The following objects are masked from 'package:parallel':
clusterApply, clusterApplyLB, clusterCall, clusterEvalQ,
clusterExport, clusterMap, parApply, parCapply, parLapply,
parLapplyLB, parRapply, parSapply, parSapplyLB
The following objects are masked from 'package:stats':
IQR, mad, sd, var, xtabs
The following objects are masked from 'package:base':
Filter, Find, Map, Position, Reduce, anyDuplicated, append,
as.data.frame, basename, cbind, colMeans, colSums, colnames,
dirname, do.call, duplicated, eval, evalq, get, grep, grepl,
intersect, is.unsorted, lapply, lengths, mapply, match, mget,
order, paste, pmax, pmax.int, pmin, pmin.int, rank, rbind,
rowMeans, rowSums, rownames, sapply, setdiff, sort, table, tapply,
union, unique, unsplit, which, which.max, which.min
Loading required package: S4Vectors
Attaching package: 'S4Vectors'
The following object is masked from 'package:base':
expand.grid
Loading required package: IRanges
Loading required package: GenomeInfoDb
Loading required package: NMF
Loading required package: pkgmaker
Loading required package: registry
Attaching package: 'pkgmaker'
The following object is masked from 'package:S4Vectors':
new2
The following object is masked from 'package:base':
isFALSE
Loading required package: rngtools
Loading required package: cluster
NMF - BioConductor layer [OK] | Shared memory capabilities [NO: synchronicity] | Cores 19/20
To enable shared memory capabilities, try: install.extras('
NMF
')
Attaching package: 'NMF'
The following object is masked from 'package:S4Vectors':
nrun
The following object is masked from 'package:testthat':
compare
>
> test_check("MutationalPatterns")
══ testthat results ═══════════════════════════════════════════════════════════
OK: 10 SKIPPED: 0 FAILED: 0
>
> proc.time()
user system elapsed
198.632 41.952 57.754
MutationalPatterns.Rcheck/MutationalPatterns-Ex.timings
| name | user | system | elapsed | |
| binomial_test | 0.012 | 0.000 | 0.008 | |
| cluster_signatures | 0.036 | 0.000 | 0.049 | |
| cos_sim | 0 | 0 | 0 | |
| cos_sim_matrix | 0.016 | 0.000 | 0.016 | |
| enrichment_depletion_test | 0.128 | 0.004 | 0.139 | |
| explained_by_signatures | 0.012 | 0.000 | 0.015 | |
| extract_signatures | 0.000 | 0.000 | 0.001 | |
| fit_to_signatures | 0.048 | 0.004 | 0.053 | |
| genomic_distribution | 17.560 | 0.192 | 17.843 | |
| mut_context | 0.724 | 0.024 | 0.749 | |
| mut_matrix | 6.052 | 2.132 | 1.743 | |
| mut_matrix_stranded | 15.844 | 5.324 | 3.976 | |
| mut_strand | 0.308 | 0.020 | 0.329 | |
| mut_type | 0.028 | 0.000 | 0.027 | |
| mut_type_occurrences | 6.144 | 0.176 | 6.328 | |
| mutation_context | 0.916 | 0.012 | 0.927 | |
| mutation_types | 0.040 | 0.000 | 0.042 | |
| mutations_from_vcf | 0.036 | 0.004 | 0.040 | |
| plot_192_profile | 1.080 | 0.000 | 1.101 | |
| plot_96_profile | 1.252 | 0.000 | 1.257 | |
| plot_compare_profiles | 0.708 | 0.008 | 0.731 | |
| plot_contribution | 1.088 | 0.004 | 1.094 | |
| plot_contribution_heatmap | 0.516 | 0.000 | 0.517 | |
| plot_cosine_heatmap | 0.380 | 0.004 | 0.386 | |
| plot_enrichment_depletion | 1.936 | 0.000 | 1.936 | |
| plot_rainfall | 0.784 | 0.008 | 0.792 | |
| plot_signature_strand_bias | 0.416 | 0.000 | 0.414 | |
| plot_spectrum | 9.064 | 0.108 | 9.184 | |
| plot_strand | 0.148 | 0.004 | 0.155 | |
| plot_strand_bias | 0.672 | 0.004 | 0.680 | |
| read_vcfs_as_granges | 18.460 | 3.448 | 4.332 | |
| strand_bias_test | 0.260 | 0.008 | 0.270 | |
| strand_occurrences | 0.208 | 0.004 | 0.211 | |
| type_context | 0.744 | 0.052 | 0.798 | |