Back to Multiple platform build/check report for BioC 3.8 |
|
This page was generated on 2019-04-16 11:57:41 -0400 (Tue, 16 Apr 2019).
Package 991/1649 | Hostname | OS / Arch | INSTALL | BUILD | CHECK | BUILD BIN | ||||||
MoPS 1.16.0 Philipp Eser
| malbec1 | Linux (Ubuntu 16.04.6 LTS) / x86_64 | OK | OK | OK | ![]() | ||||||
merida1 | OS X 10.11.6 El Capitan / x86_64 | OK | OK | OK | [ OK ] | ![]() |
Package: MoPS |
Version: 1.16.0 |
Command: rm -rf MoPS.buildbin-libdir && mkdir MoPS.buildbin-libdir && /Users/biocbuild/BBS/utils/build-universal.sh MoPS_1.16.0.tar.gz /Library/Frameworks/R.framework/Versions/Current/Resources/bin/R MoPS.buildbin-libdir |
StartedAt: 2019-04-16 04:24:25 -0400 (Tue, 16 Apr 2019) |
EndedAt: 2019-04-16 04:25:10 -0400 (Tue, 16 Apr 2019) |
EllapsedTime: 44.5 seconds |
RetCode: 0 |
Status: OK |
PackageFile: MoPS_1.16.0.tgz |
PackageFileSize: 857.3 KiB |
############################################################################## ############################################################################## ### ### Running command: ### ### rm -rf MoPS.buildbin-libdir && mkdir MoPS.buildbin-libdir && /Users/biocbuild/BBS/utils/build-universal.sh MoPS_1.16.0.tar.gz /Library/Frameworks/R.framework/Versions/Current/Resources/bin/R MoPS.buildbin-libdir ### ############################################################################## ############################################################################## >>>>>>> >>>>>>> INSTALLATION WITH 'R CMD INSTALL --preclean --no-multiarch --library=MoPS.buildbin-libdir MoPS_1.16.0.tar.gz' >>>>>>> * installing *source* package ‘MoPS’ ... ** R ** data ** inst ** byte-compile and prepare package for lazy loading ** help *** installing help indices ** building package indices ** installing vignettes ** testing if installed package can be loaded * DONE (MoPS)