| Back to Multiple platform build/check report for BioC 3.8 | 
  | 
This page was generated on 2019-04-13 11:19:28 -0400 (Sat, 13 Apr 2019).
| Package 908/1649 | Hostname | OS / Arch | INSTALL | BUILD | CHECK | BUILD BIN | ||||||
| MergeMaid 2.54.0 Xiaogang Zhong 
  | malbec1 | Linux (Ubuntu 16.04.6 LTS) / x86_64 | OK | OK | WARNINGS | |||||||
| tokay1 | Windows Server 2012 R2 Standard / x64 | OK | OK | WARNINGS | [ OK ] | |||||||
| merida1 | OS X 10.11.6 El Capitan / x86_64 | OK | OK | WARNINGS | OK | 
| Package: MergeMaid | 
| Version: 2.54.0 | 
| Command: rm -rf MergeMaid.buildbin-libdir && mkdir MergeMaid.buildbin-libdir && C:\Users\biocbuild\bbs-3.8-bioc\R\bin\R.exe CMD INSTALL --merge-multiarch --build --library=MergeMaid.buildbin-libdir MergeMaid_2.54.0.tar.gz | 
| StartedAt: 2019-04-13 07:37:31 -0400 (Sat, 13 Apr 2019) | 
| EndedAt: 2019-04-13 07:37:47 -0400 (Sat, 13 Apr 2019) | 
| EllapsedTime: 16.1 seconds | 
| RetCode: 0 | 
| Status: OK | 
| PackageFile: MergeMaid_2.54.0.zip | 
| PackageFileSize: 652.7 KiB | 
##############################################################################
##############################################################################
###
### Running command:
###
###   rm -rf MergeMaid.buildbin-libdir && mkdir MergeMaid.buildbin-libdir && C:\Users\biocbuild\bbs-3.8-bioc\R\bin\R.exe CMD INSTALL --merge-multiarch --build --library=MergeMaid.buildbin-libdir MergeMaid_2.54.0.tar.gz
###
##############################################################################
##############################################################################
install for i386
* installing *source* package 'MergeMaid' ...
** R
** data
** inst
** byte-compile and prepare package for lazy loading
** help
*** installing help indices
  converting help for package 'MergeMaid'
    finding HTML links ... done
    class.mergeCoeff                        html  
    class.mergeCor                          html  
    class.mergeExpressionSet                html  
    intCor                                  html  
    intcorDens                              html  
    intersection                            html  
    mergeData                               html  
    mergeExprs                              html  
    modelOutcome                            html  
** building package indices
** installing vignettes
** testing if installed package can be loaded
In R CMD INSTALL
install for x64
* installing *source* package 'MergeMaid' ...
** testing if installed package can be loaded
* MD5 sums
packaged installation of 'MergeMaid' as MergeMaid_2.54.0.zip
* DONE (MergeMaid)
In R CMD INSTALL
In R CMD INSTALL