| Back to Multiple platform build/check report for BioC 3.8 | 
  | 
This page was generated on 2019-04-13 11:27:38 -0400 (Sat, 13 Apr 2019).
| Package 889/1649 | Hostname | OS / Arch | INSTALL | BUILD | CHECK | BUILD BIN | ||||||
| MaxContrastProjection 1.6.1 Jan Sauer 
  | malbec1 | Linux (Ubuntu 16.04.6 LTS) / x86_64 | OK | OK | OK | |||||||
| tokay1 | Windows Server 2012 R2 Standard / x64 | OK | OK | OK | [ OK ] | |||||||
| merida1 | OS X 10.11.6 El Capitan / x86_64 | OK | OK | OK | OK | 
| Package: MaxContrastProjection | 
| Version: 1.6.1 | 
| Command: rm -rf MaxContrastProjection.buildbin-libdir && mkdir MaxContrastProjection.buildbin-libdir && C:\Users\biocbuild\bbs-3.8-bioc\R\bin\R.exe CMD INSTALL --merge-multiarch --build --library=MaxContrastProjection.buildbin-libdir MaxContrastProjection_1.6.1.tar.gz | 
| StartedAt: 2019-04-13 07:36:55 -0400 (Sat, 13 Apr 2019) | 
| EndedAt: 2019-04-13 07:37:11 -0400 (Sat, 13 Apr 2019) | 
| EllapsedTime: 16.0 seconds | 
| RetCode: 0 | 
| Status: OK | 
| PackageFile: MaxContrastProjection_1.6.1.zip | 
| PackageFileSize: 1.17 MiB | 
##############################################################################
##############################################################################
###
### Running command:
###
###   rm -rf MaxContrastProjection.buildbin-libdir && mkdir MaxContrastProjection.buildbin-libdir && C:\Users\biocbuild\bbs-3.8-bioc\R\bin\R.exe CMD INSTALL --merge-multiarch --build --library=MaxContrastProjection.buildbin-libdir MaxContrastProjection_1.6.1.tar.gz
###
##############################################################################
##############################################################################
install for i386
* installing *source* package 'MaxContrastProjection' ...
** R
** data
** inst
** byte-compile and prepare package for lazy loading
** help
*** installing help indices
  converting help for package 'MaxContrastProjection'
    finding HTML links ... done
    MaxContrastProjection                   html  
    calcContrast                            html  
    cells                                   html  
    contrastProjection                      html  
    fixGaussianBlur                         html  
    intensityProjection                     html  
    validateVariables                       html  
** building package indices
** installing vignettes
** testing if installed package can be loaded
In R CMD INSTALL
install for x64
* installing *source* package 'MaxContrastProjection' ...
** testing if installed package can be loaded
* MD5 sums
packaged installation of 'MaxContrastProjection' as MaxContrastProjection_1.6.1.zip
* DONE (MaxContrastProjection)
In R CMD INSTALL
In R CMD INSTALL