| Back to Multiple platform build/check report for BioC 3.8 |
|
This page was generated on 2019-04-13 11:19:31 -0400 (Sat, 13 Apr 2019).
| Package 1030/1649 | Hostname | OS / Arch | INSTALL | BUILD | CHECK | BUILD BIN | ||||||
| MVCClass 1.56.0 Elizabeth Whalen
| malbec1 | Linux (Ubuntu 16.04.6 LTS) / x86_64 | OK | OK | OK | |||||||
| tokay1 | Windows Server 2012 R2 Standard / x64 | [ OK ] | OK | OK | OK | |||||||
| merida1 | OS X 10.11.6 El Capitan / x86_64 | OK | OK | OK | OK |
| Package: MVCClass |
| Version: 1.56.0 |
| Command: C:\cygwin\bin\curl.exe -O https://malbec1.bioconductor.org/BBS/3.8/bioc/src/contrib/MVCClass_1.56.0.tar.gz && rm -rf MVCClass.buildbin-libdir && mkdir MVCClass.buildbin-libdir && C:\Users\biocbuild\bbs-3.8-bioc\R\bin\R.exe CMD INSTALL --merge-multiarch --build --library=MVCClass.buildbin-libdir MVCClass_1.56.0.tar.gz && C:\Users\biocbuild\bbs-3.8-bioc\R\bin\R.exe CMD INSTALL MVCClass_1.56.0.zip && rm MVCClass_1.56.0.tar.gz MVCClass_1.56.0.zip |
| StartedAt: 2019-04-12 18:27:21 -0400 (Fri, 12 Apr 2019) |
| EndedAt: 2019-04-12 18:28:04 -0400 (Fri, 12 Apr 2019) |
| EllapsedTime: 42.9 seconds |
| RetCode: 0 |
| Status: OK |
##############################################################################
##############################################################################
###
### Running command:
###
### C:\cygwin\bin\curl.exe -O https://malbec1.bioconductor.org/BBS/3.8/bioc/src/contrib/MVCClass_1.56.0.tar.gz && rm -rf MVCClass.buildbin-libdir && mkdir MVCClass.buildbin-libdir && C:\Users\biocbuild\bbs-3.8-bioc\R\bin\R.exe CMD INSTALL --merge-multiarch --build --library=MVCClass.buildbin-libdir MVCClass_1.56.0.tar.gz && C:\Users\biocbuild\bbs-3.8-bioc\R\bin\R.exe CMD INSTALL MVCClass_1.56.0.zip && rm MVCClass_1.56.0.tar.gz MVCClass_1.56.0.zip
###
##############################################################################
##############################################################################
% Total % Received % Xferd Average Speed Time Time Time Current
Dload Upload Total Spent Left Speed
0 0 0 0 0 0 0 0 --:--:-- --:--:-- --:--:-- 0
100 898k 100 898k 0 0 8608k 0 --:--:-- --:--:-- --:--:-- 8896k
install for i386
* installing *source* package 'MVCClass' ...
** R
** inst
** byte-compile and prepare package for lazy loading
** help
*** installing help indices
converting help for package 'MVCClass'
finding HTML links ... done
MVC-class html
dfModel-class html
gAddChildMessage-class html
gAddDataMessage-class html
gAddMessage-class html
gAddViewMessage-class html
gAskAncestorMessage-class html
gEventFun-class html
gMessage-class html
gModel-class html
gModifyMessage-class html
gSendChildMessage-class html
gSendParentMessage-class html
gUpdateDataMessage-class html
gUpdateMessage-class html
gUpdateViewMessage-class html
genView-class html
linkedModelMVC-class html
plotView-class html
qqPlotView-class html
sPlotView-class html
singleModelMVC-class html
spreadView-class html
** building package indices
** installing vignettes
** testing if installed package can be loaded
In R CMD INSTALL
install for x64
* installing *source* package 'MVCClass' ...
** testing if installed package can be loaded
* MD5 sums
packaged installation of 'MVCClass' as MVCClass_1.56.0.zip
* DONE (MVCClass)
In R CMD INSTALL
In R CMD INSTALL
* installing to library 'C:/Users/biocbuild/bbs-3.8-bioc/R/library'
package 'MVCClass' successfully unpacked and MD5 sums checked
In R CMD INSTALL