| Back to Multiple platform build/check report for BioC 3.8 | 
  | 
This page was generated on 2019-04-13 11:24:26 -0400 (Sat, 13 Apr 2019).
| Package 1006/1649 | Hostname | OS / Arch | INSTALL | BUILD | CHECK | BUILD BIN | ||||||
| MSGFgui 1.16.1 Thomas Lin Pedersen 
  | malbec1 | Linux (Ubuntu 16.04.6 LTS) / x86_64 | OK | OK | OK | |||||||
| tokay1 | Windows Server 2012 R2 Standard / x64 | OK | [ OK ] | OK | OK | |||||||
| merida1 | OS X 10.11.6 El Capitan / x86_64 | OK | OK | OK | OK | 
| Package: MSGFgui | 
| Version: 1.16.1 | 
| Command: chmod a+r MSGFgui -R && C:\Users\biocbuild\bbs-3.8-bioc\R\bin\R.exe CMD build --keep-empty-dirs --no-resave-data MSGFgui | 
| StartedAt: 2019-04-12 22:14:03 -0400 (Fri, 12 Apr 2019) | 
| EndedAt: 2019-04-12 22:14:24 -0400 (Fri, 12 Apr 2019) | 
| EllapsedTime: 21.8 seconds | 
| RetCode: 0 | 
| Status: OK | 
| PackageFile: MSGFgui_1.16.1.tar.gz | 
| PackageFileSize: 2.172 MiB | 
############################################################################## ############################################################################## ### ### Running command: ### ### chmod a+r MSGFgui -R && C:\Users\biocbuild\bbs-3.8-bioc\R\bin\R.exe CMD build --keep-empty-dirs --no-resave-data MSGFgui ### ############################################################################## ############################################################################## * checking for file 'MSGFgui/DESCRIPTION' ... OK * preparing 'MSGFgui': * checking DESCRIPTION meta-information ... OK * installing the package to build vignettes * creating vignettes ... OK * checking for LF line-endings in source and make files and shell scripts * checking for empty or unneeded directories * building 'MSGFgui_1.16.1.tar.gz'