Back to Multiple platform build/check report for BioC 3.8 |
|
This page was generated on 2019-04-13 11:26:43 -0400 (Sat, 13 Apr 2019).
Package 985/1649 | Hostname | OS / Arch | INSTALL | BUILD | CHECK | BUILD BIN | ||||||
MMDiff2 1.10.0 Gabriele Schweikert
| malbec1 | Linux (Ubuntu 16.04.6 LTS) / x86_64 | OK | OK | OK | ![]() | ||||||
tokay1 | Windows Server 2012 R2 Standard / x64 | [ OK ] | OK | WARNINGS | OK | ![]() | ||||||
merida1 | OS X 10.11.6 El Capitan / x86_64 | OK | OK | OK | OK | ![]() |
Package: MMDiff2 |
Version: 1.10.0 |
Command: C:\Users\biocbuild\bbs-3.8-bioc\R\bin\R.exe --arch i386 CMD INSTALL --no-multiarch MMDiff2 |
StartedAt: 2019-04-12 20:07:22 -0400 (Fri, 12 Apr 2019) |
EndedAt: 2019-04-12 20:08:11 -0400 (Fri, 12 Apr 2019) |
EllapsedTime: 49.2 seconds |
RetCode: 0 |
Status: OK |
############################################################################## ############################################################################## ### ### Running command: ### ### C:\Users\biocbuild\bbs-3.8-bioc\R\bin\R.exe --arch i386 CMD INSTALL --no-multiarch MMDiff2 ### ############################################################################## ############################################################################## * installing to library 'C:/Users/biocbuild/bbs-3.8-bioc/R/library' * installing *source* package 'MMDiff2' ... ** R ** data ** byte-compile and prepare package for lazy loading Warning: replacing previous import 'GenomicRanges::windows' by 'grDevices::windows' when loading 'MMDiff2' ** help *** installing help indices converting help for package 'MMDiff2' finding HTML links ... done Cfp1-Peaks html DBAmmd-Accessors html DBAmmd-class html MMD html compDists html compHists html compPvals html estimateFragmentCenters html getPeakReads html mm9-Genes html myGeneric html plotDISTS4Peak html plotDists html plotPeak html reportResults html runShinyMMDiff2 html server.MMDiff2 html ui.MMDiff2 html ** building package indices ** installing vignettes ** testing if installed package can be loaded Warning: replacing previous import 'GenomicRanges::windows' by 'grDevices::windows' when loading 'MMDiff2' * DONE (MMDiff2) Making 'packages.html' ... done In R CMD INSTALL