| Back to Multiple platform build/check report for BioC 3.8 | 
  | 
This page was generated on 2019-04-16 11:54:10 -0400 (Tue, 16 Apr 2019).
| Package 981/1649 | Hostname | OS / Arch | INSTALL | BUILD | CHECK | BUILD BIN | ||||||
| MLInterfaces 1.62.1 V. Carey 
  | malbec1 | Linux (Ubuntu 16.04.6 LTS) / x86_64 | OK | OK | OK | |||||||
| merida1 | OS X 10.11.6 El Capitan / x86_64 | OK | OK | OK | [ OK ] | 
| Package: MLInterfaces | 
| Version: 1.62.1 | 
| Command: rm -rf MLInterfaces.buildbin-libdir && mkdir MLInterfaces.buildbin-libdir && /Users/biocbuild/BBS/utils/build-universal.sh MLInterfaces_1.62.1.tar.gz /Library/Frameworks/R.framework/Versions/Current/Resources/bin/R MLInterfaces.buildbin-libdir | 
| StartedAt: 2019-04-16 04:24:02 -0400 (Tue, 16 Apr 2019) | 
| EndedAt: 2019-04-16 04:24:47 -0400 (Tue, 16 Apr 2019) | 
| EllapsedTime: 44.7 seconds | 
| RetCode: 0 | 
| Status: OK | 
| PackageFile: MLInterfaces_1.62.1.tgz | 
| PackageFileSize: 1.478 MiB | 
############################################################################## ############################################################################## ### ### Running command: ### ### rm -rf MLInterfaces.buildbin-libdir && mkdir MLInterfaces.buildbin-libdir && /Users/biocbuild/BBS/utils/build-universal.sh MLInterfaces_1.62.1.tar.gz /Library/Frameworks/R.framework/Versions/Current/Resources/bin/R MLInterfaces.buildbin-libdir ### ############################################################################## ############################################################################## >>>>>>> >>>>>>> INSTALLATION WITH 'R CMD INSTALL --preclean --no-multiarch --library=MLInterfaces.buildbin-libdir MLInterfaces_1.62.1.tar.gz' >>>>>>> * installing *source* package ‘MLInterfaces’ ... ** R ** inst ** byte-compile and prepare package for lazy loading ** help *** installing help indices ** building package indices ** installing vignettes ** testing if installed package can be loaded * DONE (MLInterfaces)