| Back to Multiple platform build/check report for BioC 3.8 |
|
This page was generated on 2019-04-16 12:09:54 -0400 (Tue, 16 Apr 2019).
| Package 894/1649 | Hostname | OS / Arch | INSTALL | BUILD | CHECK | BUILD BIN | ||||||
| MBttest 1.10.0 Yuan-De Tan
| malbec1 | Linux (Ubuntu 16.04.6 LTS) / x86_64 | OK | OK | OK | |||||||
| merida1 | OS X 10.11.6 El Capitan / x86_64 | OK | [ OK ] | OK | OK |
| Package: MBttest |
| Version: 1.10.0 |
| Command: /Library/Frameworks/R.framework/Versions/Current/Resources/bin/R CMD build --keep-empty-dirs --no-resave-data MBttest |
| StartedAt: 2019-04-15 21:45:01 -0400 (Mon, 15 Apr 2019) |
| EndedAt: 2019-04-15 21:45:28 -0400 (Mon, 15 Apr 2019) |
| EllapsedTime: 27.1 seconds |
| RetCode: 0 |
| Status: OK |
| PackageFile: MBttest_1.10.0.tar.gz |
| PackageFileSize: 3.445 MiB |
##############################################################################
##############################################################################
###
### Running command:
###
### /Library/Frameworks/R.framework/Versions/Current/Resources/bin/R CMD build --keep-empty-dirs --no-resave-data MBttest
###
##############################################################################
##############################################################################
* checking for file ‘MBttest/DESCRIPTION’ ... OK
* preparing ‘MBttest’:
* checking DESCRIPTION meta-information ... OK
* installing the package to build vignettes
* creating vignettes ... OK
Warning: ‘inst/doc’ files
‘MBttest.pdf’, ‘MBttest.R’
ignored as vignettes have been rebuilt.
Run R CMD build with --no-build-vignettes to prevent rebuilding.
* checking for LF line-endings in source and make files and shell scripts
* checking for empty or unneeded directories
* looking to see if a ‘data/datalist’ file should be added
* building ‘MBttest_1.10.0.tar.gz’