| Back to Multiple platform build/check report for BioC 3.8 | 
 | 
This page was generated on 2019-04-16 11:50:54 -0400 (Tue, 16 Apr 2019).
| Package 869/1649 | Hostname | OS / Arch | INSTALL | BUILD | CHECK | BUILD BIN | ||||||
| MAIT 1.16.1 Pol Sola-Santos 
 | malbec1 | Linux (Ubuntu 16.04.6 LTS) / x86_64 | ERROR | [ ERROR ] | skipped | |||||||
| merida1 | OS X 10.11.6 El Capitan / x86_64 | OK | OK | OK | OK |  | 
| Package: MAIT | 
| Version: 1.16.1 | 
| Command: /home/biocbuild/bbs-3.8-bioc/R/bin/R CMD build --keep-empty-dirs --no-resave-data MAIT | 
| StartedAt: 2019-04-15 19:56:14 -0400 (Mon, 15 Apr 2019) | 
| EndedAt: 2019-04-15 19:56:15 -0400 (Mon, 15 Apr 2019) | 
| EllapsedTime: 1.5 seconds | 
| RetCode: 1 | 
| Status: ERROR | 
| PackageFile: None | 
| PackageFileSize: NA | 
##############################################################################
##############################################################################
###
### Running command:
###
###   /home/biocbuild/bbs-3.8-bioc/R/bin/R CMD build --keep-empty-dirs --no-resave-data MAIT
###
##############################################################################
##############################################################################
* checking for file ‘MAIT/DESCRIPTION’ ... OK
* preparing ‘MAIT’:
* checking DESCRIPTION meta-information ... OK
* installing the package to build vignettes
      -----------------------------------
ERROR: dependency ‘agricolae’ is not available for package ‘MAIT’
* removing ‘/tmp/RtmpABzuJ7/Rinst62388f9679/MAIT’
      -----------------------------------
ERROR: package installation failed