| Back to Multiple platform build/check report for BioC 3.8 | 
 | 
This page was generated on 2019-04-16 11:53:18 -0400 (Tue, 16 Apr 2019).
| Package 863/1649 | Hostname | OS / Arch | INSTALL | BUILD | CHECK | BUILD BIN | ||||||
| MACPET 1.2.0 Ioannis Vardaxis 
 | malbec1 | Linux (Ubuntu 16.04.6 LTS) / x86_64 | ERROR | [ ERROR ] | skipped | |||||||
| merida1 | OS X 10.11.6 El Capitan / x86_64 | ERROR | ERROR | skipped | skipped | 
| Package: MACPET | 
| Version: 1.2.0 | 
| Command: /home/biocbuild/bbs-3.8-bioc/R/bin/R CMD build --keep-empty-dirs --no-resave-data MACPET | 
| StartedAt: 2019-04-15 21:38:19 -0400 (Mon, 15 Apr 2019) | 
| EndedAt: 2019-04-15 21:38:20 -0400 (Mon, 15 Apr 2019) | 
| EllapsedTime: 1.5 seconds | 
| RetCode: 1 | 
| Status: ERROR | 
| PackageFile: None | 
| PackageFileSize: NA | 
##############################################################################
##############################################################################
###
### Running command:
###
###   /home/biocbuild/bbs-3.8-bioc/R/bin/R CMD build --keep-empty-dirs --no-resave-data MACPET
###
##############################################################################
##############################################################################
* checking for file ‘MACPET/DESCRIPTION’ ... OK
* preparing ‘MACPET’:
* checking DESCRIPTION meta-information ... OK
* cleaning src
* installing the package to build vignettes
      -----------------------------------
ERROR: dependency ‘rbamtools’ is not available for package ‘MACPET’
* removing ‘/tmp/Rtmph9tcTo/Rinst16a03441b95d/MACPET’
      -----------------------------------
ERROR: package installation failed